BEGIN:VCALENDAR
VERSION:2.0
PRODID:-//Moritz Eggert - ECPv4.9.11//NONSGML v1.0//EN
CALSCALE:GREGORIAN
METHOD:PUBLISH
X-WR-CALNAME:Moritz Eggert
X-ORIGINAL-URL:https://www.moritzeggert.de
X-WR-CALDESC:Veranstaltungen für Moritz Eggert
BEGIN:VTIMEZONE
TZID:Europe/Helsinki
BEGIN:DAYLIGHT
TZOFFSETFROM:+0200
TZOFFSETTO:+0300
TZNAME:EEST
DTSTART:20220327T010000
END:DAYLIGHT
BEGIN:STANDARD
TZOFFSETFROM:+0300
TZOFFSETTO:+0200
TZNAME:EET
DTSTART:20221030T010000
END:STANDARD
END:VTIMEZONE
BEGIN:VEVENT
DTSTART;TZID=Europe/Helsinki:20221210T200000
DTEND;TZID=Europe/Helsinki:20221210T220000
DTSTAMP:20260420T175510
CREATED:20221113T110611Z
LAST-MODIFIED:20221113T110611Z
UID:2004-1670702400-1670709600@www.moritzeggert.de
SUMMARY:Sophia Schambeck Recital
DESCRIPTION:MORITZ EGGERT\nAyre for John Dowland »her sad infamy sings« \n
URL:https://www.moritzeggert.de/termin/winners-masters-2/
LOCATION:Lauterbach\, Germany
END:VEVENT
END:VCALENDAR