BEGIN:VCALENDAR
VERSION:2.0
PRODID:-//Moritz Eggert - ECPv4.9.11//NONSGML v1.0//EN
CALSCALE:GREGORIAN
METHOD:PUBLISH
X-WR-CALNAME:Moritz Eggert
X-ORIGINAL-URL:https://www.moritzeggert.de
X-WR-CALDESC:Veranstaltungen für Moritz Eggert
BEGIN:VTIMEZONE
TZID:Europe/Helsinki
BEGIN:DAYLIGHT
TZOFFSETFROM:+0200
TZOFFSETTO:+0300
TZNAME:EEST
DTSTART:20220327T010000
END:DAYLIGHT
BEGIN:STANDARD
TZOFFSETFROM:+0300
TZOFFSETTO:+0200
TZNAME:EET
DTSTART:20221030T010000
END:STANDARD
END:VTIMEZONE
BEGIN:VEVENT
DTSTART;TZID=Europe/Helsinki:20220710T170000
DTEND;TZID=Europe/Helsinki:20220710T190000
DTSTAMP:20260423T104058
CREATED:20220601T135343Z
LAST-MODIFIED:20220601T135343Z
UID:1670-1657472400-1657479600@www.moritzeggert.de
SUMMARY:Windsbacher Knabenchor
DESCRIPTION: „Musik“ für Knabenchor von Moritz Eggert\, Text: Wolfgang Gierke \n  \nUnter der Leitung von Martin Lehmann präsentieren die jungen Sänger des Windsbacher Knabenchors geistliche Chormusik aus fünf Epochen und ausgewählte Volks- und Kunstlieder. Begleitet werden sie von Maciej Frąckiewicz\, der 2018 mit dem Preis des Deutschen Musikwettbewerbs\, einem Förderprojekt des Deutschen Musikrats\, und dem Publikumspreis ausgezeichnet wurde. \n
URL:https://www.moritzeggert.de/termin/windsbacher-knabenchor-4/
LOCATION:Evangelische Akademie\, Schlosstraße 2+4\, Tutzing\, 82337\, Germany
END:VEVENT
END:VCALENDAR