BEGIN:VCALENDAR
VERSION:2.0
PRODID:-//Moritz Eggert - ECPv4.9.11//NONSGML v1.0//EN
CALSCALE:GREGORIAN
METHOD:PUBLISH
X-WR-CALNAME:Moritz Eggert
X-ORIGINAL-URL:https://www.moritzeggert.de
X-WR-CALDESC:Veranstaltungen für Moritz Eggert
BEGIN:VTIMEZONE
TZID:Europe/Helsinki
BEGIN:DAYLIGHT
TZOFFSETFROM:+0200
TZOFFSETTO:+0300
TZNAME:EEST
DTSTART:20240331T010000
END:DAYLIGHT
BEGIN:STANDARD
TZOFFSETFROM:+0300
TZOFFSETTO:+0200
TZNAME:EET
DTSTART:20241027T010000
END:STANDARD
END:VTIMEZONE
BEGIN:VEVENT
DTSTART;TZID=Europe/Helsinki:20240619T100000
DTEND;TZID=Europe/Helsinki:20240619T110000
DTSTAMP:20260421T082826
CREATED:20240603T074226Z
LAST-MODIFIED:20240603T074226Z
UID:3572-1718791200-1718794800@www.moritzeggert.de
SUMMARY:The typewriters
DESCRIPTION:\nThe first functioning devices were developed in the early Constructed in the 19th century. It did not take on its actual form and function\, which we are still familiar with today\, until around the turn of the 19. to the 20th century. It could well be that the sounds so typical of this machine are no longer familiar: the striking noises\, the bell sound that reminded us that the end of the line was near\, the whirring and rattling of the platen\, the clicking of the lever with which it was to be moved – ultimately a whole arsenal of percussive noises with musical qualities. Together with flautist Eric Lamb and pianist Nora Skuta\, percussionist Rupert Struber has dedicated an entire program to this enchanting device\, which of course includes the classic of all typewriter compositions\, Leroy Anderson’s „The Typewriter“. \nThe typewriter\, an invention of the arms manufacturer Remington\, is also a feminist issue; the „typist’s maid“ – smartly dressed and with the posture of a piano player – was first seen as a threat because writing and working in the administration room was no longer a male domain. However\, „men“ were quick to deny women the ability to produce literature. Typing was degraded to a low-paid\, unappreciated job for women. A detour in the concert leads to Arnold Schönberg\, who (also) invented a typewriter!\n \n\n\n\n                œnm – austrian ensemble for new music\n              \nRupert Struber Percussion\nEric Lamb Flute\nNora Skuta Piano\n \n \n\n\n            Moritz Eggert: Melody 1.0\, Symphony 1.0\n          \n
URL:https://www.moritzeggert.de/termin/the-typewriters/
LOCATION:MuTh\, Wien\, Österreich
END:VEVENT
END:VCALENDAR