BEGIN:VCALENDAR
VERSION:2.0
PRODID:-//Moritz Eggert - ECPv4.9.11//NONSGML v1.0//EN
CALSCALE:GREGORIAN
METHOD:PUBLISH
X-WR-CALNAME:Moritz Eggert
X-ORIGINAL-URL:https://www.moritzeggert.de
X-WR-CALDESC:Veranstaltungen für Moritz Eggert
BEGIN:VTIMEZONE
TZID:Europe/Helsinki
BEGIN:DAYLIGHT
TZOFFSETFROM:+0200
TZOFFSETTO:+0300
TZNAME:EEST
DTSTART:20250330T010000
END:DAYLIGHT
BEGIN:STANDARD
TZOFFSETFROM:+0300
TZOFFSETTO:+0200
TZNAME:EET
DTSTART:20251026T010000
END:STANDARD
END:VTIMEZONE
BEGIN:VEVENT
DTSTART;TZID=Europe/Helsinki:20251206T200000
DTEND;TZID=Europe/Helsinki:20251206T220000
DTSTAMP:20260423T163623
CREATED:20251117T084942Z
LAST-MODIFIED:20251117T084942Z
UID:4552-1765051200-1765058400@www.moritzeggert.de
SUMMARY:The Inner Voice
DESCRIPTION:Of Noble Natures\nLuise Enzian (baroque harp) & Asya Fateyeva (saxophone)\nWhen baroque harp and saxophone meet\, it is not old and new\, but a single\nvoice – unexpectedly close and beautiful. From Strozzi to Del Rey\, from Eggert (Endymion – Of Noble Natures)\n(Austrian premiere) to Firsova. \n
URL:https://www.moritzeggert.de/termin/the-inner-voice/
LOCATION:ORF Tirol Studio 3\, Innsbruck\, Austria
END:VEVENT
END:VCALENDAR