BEGIN:VCALENDAR
VERSION:2.0
PRODID:-//Moritz Eggert - ECPv4.9.11//NONSGML v1.0//EN
CALSCALE:GREGORIAN
METHOD:PUBLISH
X-WR-CALNAME:Moritz Eggert
X-ORIGINAL-URL:https://www.moritzeggert.de
X-WR-CALDESC:Veranstaltungen für Moritz Eggert
BEGIN:VTIMEZONE
TZID:Europe/Helsinki
BEGIN:DAYLIGHT
TZOFFSETFROM:+0200
TZOFFSETTO:+0300
TZNAME:EEST
DTSTART:20230326T010000
END:DAYLIGHT
BEGIN:STANDARD
TZOFFSETFROM:+0300
TZOFFSETTO:+0200
TZNAME:EET
DTSTART:20231029T010000
END:STANDARD
END:VTIMEZONE
BEGIN:VEVENT
DTSTART;TZID=Europe/Helsinki:20231218T200000
DTEND;TZID=Europe/Helsinki:20231218T220000
DTSTAMP:20260424T120451
CREATED:20230818T092003Z
LAST-MODIFIED:20230818T092003Z
UID:3000-1702929600-1702936800@www.moritzeggert.de
SUMMARY:Studio Neue Musik
DESCRIPTION:Musik-Forum München\nStudio für Neue Musik\nUNBLOCK – munich recorder sounds \nSilvia Berchtold – Blockflöte\nChristina Hahn – Blockflöte\nIris Lichtinger – Blockflöte\nSophia Schambeck – Blockflöte \nWerke von Gloria Coates\, Enjott Schneider\, Moritz Eggert\, Leopold Hurt\, Dorothea Hofmann\, Johannes X. Schachtner\, Patrick Schaefer \nEintritt frei \n
URL:https://www.moritzeggert.de/termin/studio-neue-musik/
LOCATION:Rubinstein-Saal\, Landsberger Straße 336\, München\, 80687\, Germany
END:VEVENT
END:VCALENDAR