BEGIN:VCALENDAR
VERSION:2.0
PRODID:-//Moritz Eggert - ECPv4.9.11//NONSGML v1.0//EN
CALSCALE:GREGORIAN
METHOD:PUBLISH
X-WR-CALNAME:Moritz Eggert
X-ORIGINAL-URL:https://www.moritzeggert.de
X-WR-CALDESC:Veranstaltungen für Moritz Eggert
BEGIN:VTIMEZONE
TZID:Europe/Helsinki
BEGIN:DAYLIGHT
TZOFFSETFROM:+0200
TZOFFSETTO:+0300
TZNAME:EEST
DTSTART:20230326T010000
END:DAYLIGHT
BEGIN:STANDARD
TZOFFSETFROM:+0300
TZOFFSETTO:+0200
TZNAME:EET
DTSTART:20231029T010000
END:STANDARD
END:VTIMEZONE
BEGIN:VEVENT
DTSTART;TZID=Europe/Helsinki:20231015T230000
DTEND;TZID=Europe/Helsinki:20231015T230000
DTSTAMP:20260422T201530
CREATED:20230914T071917Z
LAST-MODIFIED:20230914T071917Z
UID:3028-1697410800-1697410800@www.moritzeggert.de
SUMMARY:Studio Neue Musik
DESCRIPTION:Als Karlheinz Stockhausen im WDR Studio für elektronische Musik seinen Surround-Gesang der Jünglinge schuf\, sendete das Radio noch mono. Heute sind Übertragungen in 5.1 Surround Sound technisch weit verbreitet\, über Sound-Bars und Kopfhörer sind immersive Raumerlebnisse überall verfügbar. Anlässlich von 100 Jahre Radio blickt Studio Neue Musik mit Komponist:innen in die Zukunft: wie könnte das Radio der Zukunft klingen? Wo wird es gehört? Und wie? Gespickt mit Hommagen an das Rauschen des Weltempfängers\, dessen zufällige Einsprengsel immer wieder in Kompositionen einstrahlen wagt sich Studio Neue Musik in prophetisches Terrain und betreibt Medienzukunftsforschung auf rein spekulativer Datengrundlage.    \nModeration: NN\nRedaktion: Patrick Hahn  \n(mit u.a. einem Beitrag von Moritz Eggert) \n
URL:https://www.moritzeggert.de/termin/studio-neue-musik-2/
LOCATION:WDR 3 Radio
END:VEVENT
END:VCALENDAR