BEGIN:VCALENDAR
VERSION:2.0
PRODID:-//Moritz Eggert - ECPv4.9.11//NONSGML v1.0//EN
CALSCALE:GREGORIAN
METHOD:PUBLISH
X-WR-CALNAME:Moritz Eggert
X-ORIGINAL-URL:https://www.moritzeggert.de
X-WR-CALDESC:Veranstaltungen für Moritz Eggert
BEGIN:VTIMEZONE
TZID:Europe/Helsinki
BEGIN:DAYLIGHT
TZOFFSETFROM:+0200
TZOFFSETTO:+0300
TZNAME:EEST
DTSTART:20230326T010000
END:DAYLIGHT
BEGIN:STANDARD
TZOFFSETFROM:+0300
TZOFFSETTO:+0200
TZNAME:EET
DTSTART:20231029T010000
END:STANDARD
END:VTIMEZONE
BEGIN:VEVENT
DTSTART;TZID=Europe/Helsinki:20230213T080000
DTEND;TZID=Europe/Helsinki:20230213T170000
DTSTAMP:20260423T130134
CREATED:20230111T142956Z
LAST-MODIFIED:20230111T142956Z
UID:2108-1676275200-1676307600@www.moritzeggert.de
SUMMARY:Studio für Neue Musik
DESCRIPTION:Ansgar Theis\, Bariton\nLauriane Follonier\, Klavier \nMotto: … hear my voice\, approach \nAlexander Strauch (*1971): „Adamic Songs“ nach Walt Whitman\, Fassung für Bariton und Klavier (1995/2022) 1. „As Adam early in the morning“ 2. „I am he that aches with amourous love“ 3. „I heard you solemn sweet pipes of the organ“ \nCarl Christian Bettendorf (*1973): „Deux poésies de Michel Houellebecq“ (2003) \nJohannes X. Schachtner (*1985): „Je suis Charlie“ für Bariton und Klavier. Deux chansons 1. Wenn aber christus\, der gesagt hat … [apage\, Josephine\, apage – !] 2. Quasi senza tempo 3. hier ist es hübsch … [park Monceau] \nHans Huyssen (*1964): „Autumn #28“ auf einen Text von Leonidas Queck \nKathrin Angela Denner (*1986): „Fort“ nach Jakob Leiner (UA\, 2022) \nMarkus Lehmann-Horn (*1977): „Über die Freude“ nach Karl Valentin (UA\, 2022) \nPAUSE \nMoritz Eggert (*1965): „Ode an Twitter“ (2013) \nChristoph Reiserer *1966) „Brain Dance“ – Arie des Prof. Weiss aus „President Jekyll“\, Text: Friedo Mann\, Martina Veh (2012/2022) \nDorothea Hofmann (*1961): „The Tempest: CALIBAN“ aus „Vier Lieder nach Shakespeare“ nach William Shakespeare (2012) \nRudi Spring (*1962): „Voll Blüten steht der Pfirsichbaum“ und „Gnadenlos schön“ aus dem Zyklus „Gnadenlos schön“ (1997/2000) \nMarkus Schmitt (*1965): „Über allen Gipfeln“ aus Goethe-Lieder (2007/2015) \nAlexander Strauch (*1971): „Der Hecht“ nach Christian Morgenstern (1991) \n
URL:https://www.moritzeggert.de/termin/studio-fuer-neue-musik/
LOCATION:Rubinstein-Saal\, Landsberger Straße 336\, München\, 80687\, Germany
END:VEVENT
END:VCALENDAR