BEGIN:VCALENDAR
VERSION:2.0
PRODID:-//Moritz Eggert - ECPv4.9.11//NONSGML v1.0//EN
CALSCALE:GREGORIAN
METHOD:PUBLISH
X-WR-CALNAME:Moritz Eggert
X-ORIGINAL-URL:https://www.moritzeggert.de
X-WR-CALDESC:Veranstaltungen für Moritz Eggert
BEGIN:VTIMEZONE
TZID:Europe/Helsinki
BEGIN:DAYLIGHT
TZOFFSETFROM:+0200
TZOFFSETTO:+0300
TZNAME:EEST
DTSTART:20260329T010000
END:DAYLIGHT
BEGIN:STANDARD
TZOFFSETFROM:+0300
TZOFFSETTO:+0200
TZNAME:EET
DTSTART:20261025T010000
END:STANDARD
END:VTIMEZONE
BEGIN:VEVENT
DTSTART;TZID=Europe/Helsinki:20260503T180000
DTEND;TZID=Europe/Helsinki:20260503T200000
DTSTAMP:20260424T115706
CREATED:20260421T144930Z
LAST-MODIFIED:20260421T144930Z
UID:4764-1777831200-1777838400@www.moritzeggert.de
SUMMARY:Solistprisvinnare – Kathrin Lorenzen
DESCRIPTION:Jordens och himlens sånger\nKathrin Lorenzen\, sopran (Solistprisvinnare 2024)\nOskar Ekberg\, piano \nMoritz Eggert\nNeues Märchen\nSprich Scheherazade\nKoitus\nHerz vers sagen \nJohanna Müller-Hermann\nFünf Lieder op.2 \nGustaf Nordqvist\nTre sånger\nJorden \nOlivier Messiaen\nChants de Terre et de Ciel nr1-6 \nClaire Delbos\nPrimevère – Cinq melodies \n
URL:https://www.moritzeggert.de/termin/solistprisvinnare-kathrin-lorenzen/
LOCATION:Varbergs Teater\, Varberg\, Sweden
END:VEVENT
END:VCALENDAR