BEGIN:VCALENDAR
VERSION:2.0
PRODID:-//Moritz Eggert - ECPv4.9.11//NONSGML v1.0//EN
CALSCALE:GREGORIAN
METHOD:PUBLISH
X-WR-CALNAME:Moritz Eggert
X-ORIGINAL-URL:https://www.moritzeggert.de
X-WR-CALDESC:Veranstaltungen für Moritz Eggert
BEGIN:VTIMEZONE
TZID:Europe/Helsinki
BEGIN:DAYLIGHT
TZOFFSETFROM:+0200
TZOFFSETTO:+0300
TZNAME:EEST
DTSTART:20240331T010000
END:DAYLIGHT
BEGIN:STANDARD
TZOFFSETFROM:+0300
TZOFFSETTO:+0200
TZNAME:EET
DTSTART:20241027T010000
END:STANDARD
END:VTIMEZONE
BEGIN:VEVENT
DTSTART;TZID=Europe/Helsinki:20240611T210000
DTEND;TZID=Europe/Helsinki:20240611T223000
DTSTAMP:20260423T122713
CREATED:20240610T074155Z
LAST-MODIFIED:20240610T074155Z
UID:3606-1718139600-1718145000@www.moritzeggert.de
SUMMARY:Soccer Sounds – Die Neue Musik und der Fußball
DESCRIPTION:Das Spielerische\, das Martialische\, das Euphorische\, das Melancholische oder die bewegten Stadionmassen haben auch Komponisten der Neuen Musik immer wieder inspiriert. Mal als mitfühlende Fans\, mal eher karikierend\, mal mitreißend\, mal augenzwinkernd schufen sie Werke rund um das runde Leder. So entstanden fußballinspirierte Werke – mal in Form verspielter Minimal-Music\, mal als pathetische Hymne\, als Soundscape oder als Geräuschperformance. Pünktlich zur EM widmet sich die JetztMusik den Korrelationen von Anpfiff\, Abseits und Avantgarde. \n  \n(Ausschnitte aus „Die Tiefe des Raumes“\, „Ballack\, du geile Schnitte“) \n
URL:https://www.moritzeggert.de/termin/soccer-sounds-die-neue-musik-und-der-fussball/
LOCATION:SWR Kultur\, Germany
END:VEVENT
END:VCALENDAR