BEGIN:VCALENDAR
VERSION:2.0
PRODID:-//Moritz Eggert - ECPv4.9.11//NONSGML v1.0//EN
CALSCALE:GREGORIAN
METHOD:PUBLISH
X-WR-CALNAME:Moritz Eggert
X-ORIGINAL-URL:https://www.moritzeggert.de
X-WR-CALDESC:Veranstaltungen für Moritz Eggert
BEGIN:VTIMEZONE
TZID:Europe/Helsinki
BEGIN:DAYLIGHT
TZOFFSETFROM:+0200
TZOFFSETTO:+0300
TZNAME:EEST
DTSTART:20260329T010000
END:DAYLIGHT
BEGIN:STANDARD
TZOFFSETFROM:+0300
TZOFFSETTO:+0200
TZNAME:EET
DTSTART:20261025T010000
END:STANDARD
END:VTIMEZONE
BEGIN:VEVENT
DTSTART;TZID=Europe/Helsinki:20260121T200000
DTEND;TZID=Europe/Helsinki:20260121T220000
DTSTAMP:20260423T165539
CREATED:20251220T090113Z
LAST-MODIFIED:20251220T090113Z
UID:4608-1769025600-1769032800@www.moritzeggert.de
SUMMARY:Sinfonie-Konzert
DESCRIPTION:Im Wintersemester 2025/26 spielt das Sinfonieorchester ein Kinderkonzert am 18.1.2026 und ein Sinfoniekonzert am 21.1.2026. \nDas Sinfoniekonzert wird in Zusammenarbeit mit der Kammerphilharmonie Ingolstadt veranstaltet. Gespielt werden unter anderem das Orgelkonzert von Francis Poulenc sowie Ausschnitte aus „Schwanensee“ von Peter Tschaikowsky. \nSinfonieorchester –\nLeitung:Uwe Sochaczewsky \nMoritz Eggert: Flüchtige Begegnung (ensemble neue musik der KU\, Iris Lichtinger\, Leitung) \n
URL:https://www.moritzeggert.de/termin/sinfonie-konzert/
LOCATION:Festsaal\, Katholische Universität Eichstätt-Ingolstadt\, Germany
END:VEVENT
END:VCALENDAR