BEGIN:VCALENDAR
VERSION:2.0
PRODID:-//Moritz Eggert - ECPv4.9.11//NONSGML v1.0//EN
CALSCALE:GREGORIAN
METHOD:PUBLISH
X-WR-CALNAME:Moritz Eggert
X-ORIGINAL-URL:https://www.moritzeggert.de
X-WR-CALDESC:Veranstaltungen für Moritz Eggert
BEGIN:VTIMEZONE
TZID:Europe/Helsinki
BEGIN:DAYLIGHT
TZOFFSETFROM:+0200
TZOFFSETTO:+0300
TZNAME:EEST
DTSTART:20210328T010000
END:DAYLIGHT
BEGIN:STANDARD
TZOFFSETFROM:+0300
TZOFFSETTO:+0200
TZNAME:EET
DTSTART:20211031T010000
END:STANDARD
END:VTIMEZONE
BEGIN:VEVENT
DTSTART;TZID=Europe/Helsinki:20210629T180000
DTEND;TZID=Europe/Helsinki:20210629T193000
DTSTAMP:20260425T105821
CREATED:20210628T084610Z
LAST-MODIFIED:20210628T084610Z
UID:1032-1624989600-1624995000@www.moritzeggert.de
SUMMARY:Scratch!
DESCRIPTION:\nSCRATCH!\nWann:29.06.2021\, 18:15 Uhr\nWer:Studierende der Musikhochschule Freiburg (Einstudierung: Nicholas Reed und Prof. Håkon Stene)\nWo:Musikhochschule Freiburg\n\nAbschlusskonzert des künstlerischen Praxisseminars „Musiktheater“ \nStudierende der EMP- und Schlagzeugklassen der Musikhochschule Freiburg untersuchen die Schwelle zwischen Kunst und dem Alltag \nWerke und Konzepte von u. a. Rolf Wallin\, Moritz Eggert\, Joseph Beuys\, Matthew Shlomowitz\, François Sarhan und Carola Bauckholt \n\n\n
URL:https://www.moritzeggert.de/termin/scratch/
END:VEVENT
END:VCALENDAR