BEGIN:VCALENDAR
VERSION:2.0
PRODID:-//Moritz Eggert - ECPv4.9.11//NONSGML v1.0//EN
CALSCALE:GREGORIAN
METHOD:PUBLISH
X-WR-CALNAME:Moritz Eggert
X-ORIGINAL-URL:https://www.moritzeggert.de
X-WR-CALDESC:Veranstaltungen für Moritz Eggert
BEGIN:VTIMEZONE
TZID:Europe/Helsinki
BEGIN:DAYLIGHT
TZOFFSETFROM:+0200
TZOFFSETTO:+0300
TZNAME:EEST
DTSTART:20250330T010000
END:DAYLIGHT
BEGIN:STANDARD
TZOFFSETFROM:+0300
TZOFFSETTO:+0200
TZNAME:EET
DTSTART:20251026T010000
END:STANDARD
END:VTIMEZONE
BEGIN:VEVENT
DTSTART;TZID=Europe/Helsinki:20251123T193000
DTEND;TZID=Europe/Helsinki:20251123T213000
DTSTAMP:20260423T090947
CREATED:20250712T115438Z
LAST-MODIFIED:20250712T115438Z
UID:4342-1763926200-1763933400@www.moritzeggert.de
SUMMARY:Schilderijententoonstelling
DESCRIPTION:\n\nPianovirtuoos Ralph van Raat\, percussionist Konstantyn Napolov en violist Merel Vercammen\, gaan op een muzikale reis door Moessorgski’s Schilderijen van een tentoonstelling. Een unieke ervaring met een uitgebreide slagwerkset en prachtige melodieën.\n\n\n\n\n\nProgramma\n\nMoritz Eggert The Collectors\nVictoria Poleva Mono no Aware\nMartin Fondse Kitchen Stories V\nModest Moessorgski\, arr. Marijn van Prooijen Schilderijen van een tentoonstelling\nKatherine Teng Aoi Aoi ano Sora to Umi\nJasper de Bock De Bock’s Brushstrokes\nAlam Hernández Ramírez The Fox and the Pheasant\nArefeh Hekmatpanah Glass \n\n\n\n\n\n\n\nHet thema verzamelen en het belang van kunst spelen een hoofdrol in dit programma. De naam van het programma komt van Modest Moessorgski’s beroemde en geschiedenisrijke klassieke meesterwerk Schilderijen van een tentoonstelling\, het arrangement is speciaal voor dit programma gemaakt en staat centraal. De piano en percussie openen deuren naar de magische wereld van de tentoonstelling en nemen luisteraars mee naar de muzikale promenadewandeling in de Academie voor Beeldende Kunsten\, waar we het oude kasteel\, de markt van Limoges en het ballet van niet-uitgekomen kuikens kunnen ervaren. \nNaast Moessorgski staan er verschillende opdrachtwerken op het programma\, zoals het werk The Collectors door de toonaangevende Duitse componist Moritz Eggert. Hij laat de visie van verzamelingen in onze tijden zien en horen – de componist is zelf ook verslaafd aan verzamelen in het echte leven. Het is een bijzondere klankreis waar de pianist niet alleen de vleugel bespeelt\, maar ook de Toy piano\, Zwitserse koebel\, Kazoo en veel meer in combinatie met wel 65 slagwerkinstrumenten – over verzamelingen gesproken…\n\n\n\n
URL:https://www.moritzeggert.de/termin/schilderijententoonstelling/
LOCATION:Nieuwe Kerk\, Den Haag\, Niederlande
END:VEVENT
END:VCALENDAR