BEGIN:VCALENDAR
VERSION:2.0
PRODID:-//Moritz Eggert - ECPv4.9.11//NONSGML v1.0//EN
CALSCALE:GREGORIAN
METHOD:PUBLISH
X-WR-CALNAME:Moritz Eggert
X-ORIGINAL-URL:https://www.moritzeggert.de
X-WR-CALDESC:Veranstaltungen für Moritz Eggert
BEGIN:VTIMEZONE
TZID:Europe/Helsinki
BEGIN:DAYLIGHT
TZOFFSETFROM:+0200
TZOFFSETTO:+0300
TZNAME:EEST
DTSTART:20220327T010000
END:DAYLIGHT
BEGIN:STANDARD
TZOFFSETFROM:+0300
TZOFFSETTO:+0200
TZNAME:EET
DTSTART:20221030T010000
END:STANDARD
END:VTIMEZONE
BEGIN:VEVENT
DTSTART;TZID=Europe/Helsinki:20220208T200000
DTEND;TZID=Europe/Helsinki:20220208T213000
DTSTAMP:20260423T095759
CREATED:20220111T105239Z
LAST-MODIFIED:20220111T105239Z
UID:1426-1644350400-1644355800@www.moritzeggert.de
SUMMARY:Salon Frankfurt: Ein Adler schreibt Geschichte
DESCRIPTION:Werke von Prokofjew\, Ligeti\, Brahms\, Adams und Eggert (Symphonie 1.0 für 12 Schreibmaschinen) \nDen Adler trägt Frankfurt seit etlichen Jahrhunderten stolz im Wappen – und im Fußballstadion ist sogar ein leibhaftiger Vertreter seiner Art als Maskottchen am Start. Dass sich hinter dem\n„Adler“ aber auch ein Erfolgsmodell „Made in Frankfurt“ verbirgt\, beleuchtet der Salon Frankfurt in seiner dritten Ausgabe. Mit dem Adler 7 stellten die im Gallusviertel angesiedelten Adler Fahrradwerke 1901 ein Schreibmaschinenmodell vor\, das schnell zum Verkaufsschlager wurde. In Texten und musikalischen Beiträgen\, die sich mit Mechanik und Motorik befassen\, wird ein markantes Kapitel Stadtgeschichte aufgerollt. \nDie Eintrittskarte für den „Salon Frankfurt“ berechtigt zum Besuch aller Ausstellungen des Historischen Museums zum ermäßigten Preis von 6\,00 €. \nAnna Engel arbeitet seit 2009 als Moderatorin und Redakteurin bei hr2-kultur sowie als Reporterin beim hr-Fernsehen.\nWenn sie nicht gerade moderiert oder Sendungen plant\, dann spricht sie mit interessanten Autorinnen und Autoren im Literaturhaus Frankfurt oder moderiert Veranstaltungen in und außerhalb Hessens. \nProjektpartner Salon Frankfurt: Ernst Max von Grunelius-Stiftung \n\n
URL:https://www.moritzeggert.de/termin/salon-frankfurt-ein-adler-schreibt-geschichte/
LOCATION:Alte Oper Frankfurt\, Frankfurt am Main\, Germany
END:VEVENT
END:VCALENDAR