BEGIN:VCALENDAR
VERSION:2.0
PRODID:-//Moritz Eggert - ECPv4.9.11//NONSGML v1.0//EN
CALSCALE:GREGORIAN
METHOD:PUBLISH
X-WR-CALNAME:Moritz Eggert
X-ORIGINAL-URL:https://www.moritzeggert.de
X-WR-CALDESC:Veranstaltungen für Moritz Eggert
BEGIN:VTIMEZONE
TZID:Europe/Helsinki
BEGIN:DAYLIGHT
TZOFFSETFROM:+0200
TZOFFSETTO:+0300
TZNAME:EEST
DTSTART:20250330T010000
END:DAYLIGHT
BEGIN:STANDARD
TZOFFSETFROM:+0300
TZOFFSETTO:+0200
TZNAME:EET
DTSTART:20251026T010000
END:STANDARD
END:VTIMEZONE
BEGIN:VEVENT
DTSTART;TZID=Europe/Helsinki:20251204T180000
DTEND;TZID=Europe/Helsinki:20251204T200000
DTSTAMP:20260423T134424
CREATED:20250916T105047Z
LAST-MODIFIED:20250916T105129Z
UID:4454-1764871200-1764878400@www.moritzeggert.de
SUMMARY:Salon 72
DESCRIPTION:\n\n  \n\n\n\n\n\n\n\n\n\n\n\n\n\n\n\n\n\n18 Uhr c.t. zu Gast Dr. Michael Ritscher\, Rechtsanwalt bei MML in Zürich\, Richter am Handelsgericht Zürich\, Präsident des Schweizerischen Instituts für gewerblichen Rechtsschutz (INGRES); Meta Hildebrandt (Sopran) und Roman Puneiko (Akkordeon) spielen „Ballack\, du geile Schnitte“ von Moritz Eggert\n\nPrivate Veranstaltung\, Anmeldung möglich über: Salon72 \n\n\n\n\n\n\n\n\n\n\n\n\n\n\n\n\n  \n\n\n
URL:https://www.moritzeggert.de/termin/salon-72/
LOCATION:Private Veranstaltung\, Berlin\, Germany
END:VEVENT
END:VCALENDAR