BEGIN:VCALENDAR
VERSION:2.0
PRODID:-//Moritz Eggert - ECPv4.9.11//NONSGML v1.0//EN
CALSCALE:GREGORIAN
METHOD:PUBLISH
X-WR-CALNAME:Moritz Eggert
X-ORIGINAL-URL:https://www.moritzeggert.de
X-WR-CALDESC:Veranstaltungen für Moritz Eggert
BEGIN:VTIMEZONE
TZID:Europe/Helsinki
BEGIN:DAYLIGHT
TZOFFSETFROM:+0200
TZOFFSETTO:+0300
TZNAME:EEST
DTSTART:20210328T010000
END:DAYLIGHT
BEGIN:STANDARD
TZOFFSETFROM:+0300
TZOFFSETTO:+0200
TZNAME:EET
DTSTART:20211031T010000
END:STANDARD
END:VTIMEZONE
BEGIN:VEVENT
DTSTART;TZID=Europe/Helsinki:20210715T220000
DTEND;TZID=Europe/Helsinki:20210715T233000
DTSTAMP:20260421T191355
CREATED:20210718T095218Z
LAST-MODIFIED:20210718T095218Z
UID:1077-1626386400-1626391800@www.moritzeggert.de
SUMMARY:Rund ums EM-Finale (II)
DESCRIPTION:Horizonte – die Sendereihe für Neue Musik auf BR-KLASSIK. \nDerzeit findet die Fußball-Europameisterschaft statt und an diesem Sonntag steigt das Finale im Wembley-Stadion in London. Ein idealer Zeitpunkt\, um endlich mal wieder Moritz Eggerts opulentes Fußballoratorium „Die Tiefe des Raumes“ zu senden. Geschrieben hat er es für die Ruhrtriennale 2005. Eggert wählte bewusst die Form des Oratoriums: als moderner Leidensweg eines Fußballspielers auf dem Weg zum entscheidenen Treffer. Wie im barocken Passionsspiel tauchen auch hier allegorische Figuren wie die Tugend und das Laster auf. Außerdem gibt es dem Evangelisten gleich einen erzählenden Journalisten. Wir präsentieren Ihnen heute die 1. Halbzeit einer CD-Aufnahme\, die beim Label NEOS erschienen ist – als Mitschnitt eines Konzerts aus dem Münchener Gasteig im Jahr 2019. \n
URL:https://www.moritzeggert.de/termin/rund-ums-em-finale-i-2/
LOCATION:BR Klassik\, Germany
END:VEVENT
END:VCALENDAR