BEGIN:VCALENDAR
VERSION:2.0
PRODID:-//Moritz Eggert - ECPv4.9.11//NONSGML v1.0//EN
CALSCALE:GREGORIAN
METHOD:PUBLISH
X-WR-CALNAME:Moritz Eggert
X-ORIGINAL-URL:https://www.moritzeggert.de
X-WR-CALDESC:Veranstaltungen für Moritz Eggert
BEGIN:VTIMEZONE
TZID:Europe/Helsinki
BEGIN:DAYLIGHT
TZOFFSETFROM:+0200
TZOFFSETTO:+0300
TZNAME:EEST
DTSTART:20210328T010000
END:DAYLIGHT
BEGIN:STANDARD
TZOFFSETFROM:+0300
TZOFFSETTO:+0200
TZNAME:EET
DTSTART:20211031T010000
END:STANDARD
END:VTIMEZONE
BEGIN:VEVENT
DTSTART;TZID=Europe/Helsinki:20211017T170000
DTEND;TZID=Europe/Helsinki:20211017T183000
DTSTAMP:20260424T110332
CREATED:20210905T132927Z
LAST-MODIFIED:20210905T132927Z
UID:1180-1634490000-1634495400@www.moritzeggert.de
SUMMARY:Rezital Angela Metzger Weißenburger Orgelwoche
DESCRIPTION:\nJohann Sebastian Bach Fantasie und Fuge g-moll\n(1685 – 1750) (BWV 542) \nOlivier Messiaen „Les eaux de la grace“\n(1908 – 1992) („Die Wasser der Gnade“)\naus den „Corps glorieux“ \nCésar Franck Fantaisie en la majeur\n(1822 – 1890) (FWV 35) \nMoritz Eggert Drei Interludien\n(geb. 1965) („Auf dem Wasser zu singen“\, 2009)\n1. ruhig fließend\, misterioso\n2. inquieto – più mosso\n3. ruhig fließend\, misterioso \nMax Reger Fantasie und Fuge d-Moll\n(1873 – 1916) (op. 135b) \n
URL:https://www.moritzeggert.de/termin/rezital-angela-metzger-weissenburger-orgelwoche/
LOCATION:St. Andreaskirche\, Martin-Luther-Platz\, Weißenburg\, 91781\, Germany
END:VEVENT
END:VCALENDAR