BEGIN:VCALENDAR
VERSION:2.0
PRODID:-//Moritz Eggert - ECPv4.9.11//NONSGML v1.0//EN
CALSCALE:GREGORIAN
METHOD:PUBLISH
X-WR-CALNAME:Moritz Eggert
X-ORIGINAL-URL:https://www.moritzeggert.de
X-WR-CALDESC:Veranstaltungen für Moritz Eggert
BEGIN:VTIMEZONE
TZID:Europe/Helsinki
BEGIN:DAYLIGHT
TZOFFSETFROM:+0200
TZOFFSETTO:+0300
TZNAME:EEST
DTSTART:20260329T010000
END:DAYLIGHT
BEGIN:STANDARD
TZOFFSETFROM:+0300
TZOFFSETTO:+0200
TZNAME:EET
DTSTART:20261025T010000
END:STANDARD
END:VTIMEZONE
BEGIN:VEVENT
DTSTART;TZID=Europe/Helsinki:20260204T193000
DTEND;TZID=Europe/Helsinki:20260204T213000
DTSTAMP:20260425T111535
CREATED:20260209T120137Z
LAST-MODIFIED:20260209T120137Z
UID:4681-1770233400-1770240600@www.moritzeggert.de
SUMMARY:Rai­ner Maria Rilke zum 100. Todes­tag
DESCRIPTION:Den Beginn macht ein Lie­der­abend unter der Über­schrift „Großes Opus – Klei­ner Zyklus“am Diens­tag\, 3. Februar\, um 19.30 Uhr im Fest­saal Für­sten­haus. Mit der Zusam­men­fas­sung in Zyklen woll­ten „viele Kom­po­ni­sten der Flüch­tig­keit von Lie­dern\, ihrer inten­si­ven\, aber doch sehr zeit­kom­pri­mier­ten Aus­sage ent­ge­gen­wir­ken“\, erklärt der Künst­le­ri­sche Lei­ter der Lied­tage\, Karl-Peter Kam­mer­lan­der. \nAls Hom­mage an einen großen Dich­ter folgt am Mitt­woch\, 4. Februar\, um 19.30 Uhr im Saal Am Palais ein Kon­zert anläs­slich „Rai­ner Maria Rilke zum 100. Todes­tag“. Es erklin­gen Lie­der von Petr Eben\, Ernst Kre­nek\, Vik­tor Ull­mann\, Paul Hin­de­mith und Moritz Eggert. Die Mode­ra­tion des Kon­zerts über­nimmt Karl-Peter Kam­mer­lan­der. Das chi­le­ni­sche Kunst­lied steht dann im Zen­trum der drit­ten Lied­tage-Ver­an­stal­tung am Diens­tag\, 10. Februar\, um 19.30 Uhr im Fest­saal Für­sten­haus. \nMoritz Eggert: „singet leise“ \n
URL:https://www.moritzeggert.de/termin/rainer-maria-rilke-zum-100-todestag/
LOCATION:Saal am Palais\, Weimar\, Germany
END:VEVENT
END:VCALENDAR