BEGIN:VCALENDAR
VERSION:2.0
PRODID:-//Moritz Eggert - ECPv4.9.11//NONSGML v1.0//EN
CALSCALE:GREGORIAN
METHOD:PUBLISH
X-WR-CALNAME:Moritz Eggert
X-ORIGINAL-URL:https://www.moritzeggert.de
X-WR-CALDESC:Veranstaltungen für Moritz Eggert
BEGIN:VTIMEZONE
TZID:Europe/Helsinki
BEGIN:DAYLIGHT
TZOFFSETFROM:+0200
TZOFFSETTO:+0300
TZNAME:EEST
DTSTART:20250330T010000
END:DAYLIGHT
BEGIN:STANDARD
TZOFFSETFROM:+0300
TZOFFSETTO:+0200
TZNAME:EET
DTSTART:20251026T010000
END:STANDARD
END:VTIMEZONE
BEGIN:VEVENT
DTSTART;TZID=Europe/Helsinki:20250115T193000
DTEND;TZID=Europe/Helsinki:20250115T210000
DTSTAMP:20260424T120250
CREATED:20241105T114243Z
LAST-MODIFIED:20241105T114354Z
UID:3853-1736969400-1736974800@www.moritzeggert.de
SUMMARY:Prometheus
DESCRIPTION:\n\n\n\n\nLudwig van Beethoven »Die Geschöpfe des Prometheus«\nMoritz Eggert »Promethea« für Violine/Viola und Orchester (Uraufführung)\nAlexander Nikolajewitsch Skrjabin »Prometheus«Prometheus als mythologische Lichtgestalt\, als rebellischer\, jedoch gleichsam gefesselter Titan\, der der Menschheit das Feuer als symbolischen Ausdruck des Wissens überbringt und damit eine Flut von Entwicklungen ausgelöst hat\, die positive wie negative Auswirkungen haben – Prometheus steht im Mittelpunkt des 4. Philharmonischen Konzertes.\nLudwig van Beethovens Ballettmusik „Die Geschöpfe des Prometheus“ wurde 1801 uraufgeführt – sein Prometheus „entreißt die Menschen seiner Zeit der Unwissenheit\, verfeinert sie durch Wissenschaft und Kunst und erhebt sie zur Sittlichkeit“\, wie es in einer zeitgenössischen Rezension heißt; wir hören Ausschnitte aus dieser Ballettmusik.\nEiner der profiliertesten Komponisten unserer Zeit – Moritz Eggert – hat sich ebenfalls mit dem Thema Prometheus auseinandergesetzt: Er verbindet gedanklich das Thema Schöpfung mit der Schaffung künstlichen Lebens und stellt die Frage nach Grenzen und Folgen wissenschaftlichen Fortschritts; musikalisch erwartet das Publikum eine Uraufführung mit der Besonderheit\, dass die Solistin zwischen zwei Instrumenten wechselt: Sie musiziert auf Violine und Viola.\nAlexander Skrjabin hat besonders die erleuchtende Kraft des Prometheus fasziniert – sein „Poème du feu“ betont die erleuchtende Kraft von Kunst\, die Menschen zu Fortschritt und Entwicklung führen kann. \n\n\n\n\n\n\n\n\n\n\n\n\n\n\nBesetzung\nSolist:innen Elisabeth Kufferath\, Violine und Viola; Moritz Eggert\, Klavier\nDirigent GMD Leo Siberski\nClara-Schumann-Philharmoniker Plauen-Zwickau \n\n\n\n\n\n\n\n\n\n
URL:https://www.moritzeggert.de/termin/prometheus-2-2/
LOCATION:Vogtlandtheater\, Plauen\, Germany
END:VEVENT
END:VCALENDAR