BEGIN:VCALENDAR
VERSION:2.0
PRODID:-//Moritz Eggert - ECPv4.9.11//NONSGML v1.0//EN
CALSCALE:GREGORIAN
METHOD:PUBLISH
X-WR-CALNAME:Moritz Eggert
X-ORIGINAL-URL:https://www.moritzeggert.de
X-WR-CALDESC:Veranstaltungen für Moritz Eggert
BEGIN:VTIMEZONE
TZID:Europe/Helsinki
BEGIN:DAYLIGHT
TZOFFSETFROM:+0200
TZOFFSETTO:+0300
TZNAME:EEST
DTSTART:20210328T010000
END:DAYLIGHT
BEGIN:STANDARD
TZOFFSETFROM:+0300
TZOFFSETTO:+0200
TZNAME:EET
DTSTART:20211031T010000
END:STANDARD
END:VTIMEZONE
BEGIN:VEVENT
DTSTART;TZID=Europe/Helsinki:20211201T080000
DTEND;TZID=Europe/Helsinki:20211201T170000
DTSTAMP:20260424T153100
CREATED:20211119T105942Z
LAST-MODIFIED:20211119T105942Z
UID:1365-1638345600-1638378000@www.moritzeggert.de
SUMMARY:Prix Annelie de Man
DESCRIPTION:Opening Concert | Prix Annelie de Man 2021\nOpening words by Johan Luijmes – Orgelpark \nOpening words by Roderik de Man – PRIX Annelie de Man \nNina Fukuoka: howto jouïssance (2019)\nGoska Isphording (harpsichord & electronics) \nFrançois-Bernard Mâche (1935): Solstice (1975)\nEre Lievonen (harpsichord) & Anne Veinberg (organ) \nMartin Scheuregger (1988) and Danica Maier (1973): Score: Mechanical Asynchronicity III (2019)\nJane Chapman (harpsichord & electronics) \nMoritz Eggert (1965): Hierarchie (2019) for large ensemble\nJane Chapman\, Anne Veinberg\, Kristian Nyquist (harpsichord)\, Ere Lievonen (organ)\, Jorge Isaac (blockflute)\, Matthijs Koene (panflute)\, Esra Pehlivanli (viola)\, Marko Kassl (accordion)\, Enric Monfort (percussion)\, Conservatorium van Amsterdam ensemble: Fidessa Inen\, Kristy van Dijk\, Hidehiro Nakamura\, Johanna Boehm\, Hannah Erxleben\, Kimia Hadian\, Olivia Petryszak\, Mathilde Aigouy\, Paul Schauenburg\, Bence Neveri\, Lara Tekovic (recorder)\, Cristina Petcu\, Elianne Vuik\, Adriana Babin (panflute)\, Nejc Poljanec\, Martin Šidlovský (accordion) \nTim Smith (1961-2020): Pod\, my my\, look my pod (1983)\nJos Zwaanenburg (1958): Harpsichord Hits (2021)\nBarmy FiveseveN: Jos Zwaanenburg (flutes\, electronics\, artistic director)\, André Lourenço (harpsichord & electronics)\, George Hadow (drums)\, Rita Karpati (electric bass)\, Fabien Vuattoux: (electric guitar & electronics)\, Karolis Sarkus (EWI)\, Alvaro Garcia Martin (trumpet) \n*****\nwww.prixdeman.com\nwww.orgelpark.nl  \n
URL:https://www.moritzeggert.de/termin/prix-annelie-de-man/
LOCATION:Orgelpark\, Amsterdam\, Niederlande
END:VEVENT
END:VCALENDAR