BEGIN:VCALENDAR
VERSION:2.0
PRODID:-//Moritz Eggert - ECPv4.9.11//NONSGML v1.0//EN
CALSCALE:GREGORIAN
METHOD:PUBLISH
X-WR-CALNAME:Moritz Eggert
X-ORIGINAL-URL:https://www.moritzeggert.de
X-WR-CALDESC:Veranstaltungen für Moritz Eggert
BEGIN:VTIMEZONE
TZID:Europe/Helsinki
BEGIN:DAYLIGHT
TZOFFSETFROM:+0200
TZOFFSETTO:+0300
TZNAME:EEST
DTSTART:20240331T010000
END:DAYLIGHT
BEGIN:STANDARD
TZOFFSETFROM:+0300
TZOFFSETTO:+0200
TZNAME:EET
DTSTART:20241027T010000
END:STANDARD
END:VTIMEZONE
BEGIN:VEVENT
DTSTART;TZID=Europe/Helsinki:20240525T180000
DTEND;TZID=Europe/Helsinki:20240525T200000
DTSTAMP:20260423T134226
CREATED:20240529T100909Z
LAST-MODIFIED:20240529T100909Z
UID:3563-1716660000-1716667200@www.moritzeggert.de
SUMMARY:Particles #2
DESCRIPTION:Ensemblekonzert des Instituts für Neue Musik\nParticles_Plakat\nMitwirkende \nEnsemble Particles – Ensemble für zeitgenössische Musik der Musikhochschule Freiburg: Paula Angula Ramírez\, Christian Armbruster\, David Auli Morales\, Tirza Bluhm\, Elena Branno\, Filipe Calixto\, Florian Clarius\, Lisa Le Cornec\, Clara Dietze\, Paul Ebert\, Yeji Jung\, Theresa Immerz\, Lisa Meignin\, Guillem Bernat Mulet\, Seijiro Nagai\, Samira Nowarra\, José Carlos Palmero Casanova\, Alessandra Riudalbas\, Josephine Schmirl\, Ayano Shigematsu\, Hendrik Wüster\, Elsa Zherebchuk\, Sebastian Zuleta\nFriederike Scheunchen → Leitung\nProgramm \nMit Werken von  Moritz Eggert u.a.\n \nMit freundlicher Unterstützung des elektronischen Studios der Hochschule für Musik Freiburg \n
URL:https://www.moritzeggert.de/termin/particles-2-2/
LOCATION:Salone di Palazzo Ricci\, Montepulciano\, Italien
END:VEVENT
END:VCALENDAR