BEGIN:VCALENDAR
VERSION:2.0
PRODID:-//Moritz Eggert - ECPv4.9.11//NONSGML v1.0//EN
CALSCALE:GREGORIAN
METHOD:PUBLISH
X-WR-CALNAME:Moritz Eggert
X-ORIGINAL-URL:https://www.moritzeggert.de
X-WR-CALDESC:Veranstaltungen für Moritz Eggert
BEGIN:VTIMEZONE
TZID:Europe/Helsinki
BEGIN:DAYLIGHT
TZOFFSETFROM:+0200
TZOFFSETTO:+0300
TZNAME:EEST
DTSTART:20220327T010000
END:DAYLIGHT
BEGIN:STANDARD
TZOFFSETFROM:+0300
TZOFFSETTO:+0200
TZNAME:EET
DTSTART:20221030T010000
END:STANDARD
END:VTIMEZONE
BEGIN:VEVENT
DTSTART;TZID=Europe/Helsinki:20221224T010000
DTEND;TZID=Europe/Helsinki:20221224T013000
DTSTAMP:20260424T170632
CREATED:20221219T084136Z
LAST-MODIFIED:20221219T084514Z
UID:2077-1671843600-1671845400@www.moritzeggert.de
SUMMARY:Oper für Ungeduldige
DESCRIPTION:Der Münchner Komponist Moritz Eggert erklärt kurz und bündig den Inhalt weltbekannter Opern. Der perfekte Einstieg für Neulinge und tolle Unterhaltung für langjährige Opern-Fans.\n\nSchauspieler: Moritz Eggert\nRegie: Nike Harrach\nProduktionsfirma: ZDF (2)\n\n\n1:10 01 Die Entführung aus dem Serail\n1:15 05 Rigoletto\n1:25 04 Il Trovatore\n
URL:https://www.moritzeggert.de/termin/oper-fuer-ungeduldige/
LOCATION:Sky Documentaries\, Fernsehen\, Germany
END:VEVENT
END:VCALENDAR