BEGIN:VCALENDAR
VERSION:2.0
PRODID:-//Moritz Eggert - ECPv4.9.11//NONSGML v1.0//EN
CALSCALE:GREGORIAN
METHOD:PUBLISH
X-WR-CALNAME:Moritz Eggert
X-ORIGINAL-URL:https://www.moritzeggert.de
X-WR-CALDESC:Veranstaltungen für Moritz Eggert
BEGIN:VTIMEZONE
TZID:Europe/Helsinki
BEGIN:DAYLIGHT
TZOFFSETFROM:+0200
TZOFFSETTO:+0300
TZNAME:EEST
DTSTART:20210328T010000
END:DAYLIGHT
BEGIN:STANDARD
TZOFFSETFROM:+0300
TZOFFSETTO:+0200
TZNAME:EET
DTSTART:20211031T010000
END:STANDARD
END:VTIMEZONE
BEGIN:VEVENT
DTSTART;TZID=Europe/Helsinki:20211103T173000
DTEND;TZID=Europe/Helsinki:20211103T180000
DTSTAMP:20260424T121311
CREATED:20211020T082449Z
LAST-MODIFIED:20211020T082508Z
UID:1319-1635960600-1635962400@www.moritzeggert.de
SUMMARY:Oper für Ungeduldige Staffel 1
DESCRIPTION:Die Entführung aus dem Serail/Carmen/Die Zauberflöte/Il Trovatore/Rigoletto \n \n
URL:https://www.moritzeggert.de/termin/oper-fuer-ungeduldige-staffel-1/
LOCATION:Sky Documentaries\, Fernsehen\, Germany
END:VEVENT
END:VCALENDAR