BEGIN:VCALENDAR
VERSION:2.0
PRODID:-//Moritz Eggert - ECPv4.9.11//NONSGML v1.0//EN
CALSCALE:GREGORIAN
METHOD:PUBLISH
X-WR-CALNAME:Moritz Eggert
X-ORIGINAL-URL:https://www.moritzeggert.de
X-WR-CALDESC:Veranstaltungen für Moritz Eggert
BEGIN:VTIMEZONE
TZID:Europe/Helsinki
BEGIN:DAYLIGHT
TZOFFSETFROM:+0200
TZOFFSETTO:+0300
TZNAME:EEST
DTSTART:20230326T010000
END:DAYLIGHT
BEGIN:STANDARD
TZOFFSETFROM:+0300
TZOFFSETTO:+0200
TZNAME:EET
DTSTART:20231029T010000
END:STANDARD
END:VTIMEZONE
BEGIN:VEVENT
DTSTART;TZID=Europe/Helsinki:20230119T023000
DTEND;TZID=Europe/Helsinki:20230119T033000
DTSTAMP:20260422T215449
CREATED:20221219T084344Z
LAST-MODIFIED:20221219T084344Z
UID:2079-1674095400-1674099000@www.moritzeggert.de
SUMMARY:Oper für Ungeduldige
DESCRIPTION:Der Münchner Komponist Moritz Eggert erklärt kurz und bündig den Inhalt weltbekannter Opern. Der perfekte Einstieg für Neulinge und tolle Unterhaltung für langjährige Opern-Fans.\n\nSchauspieler: Moritz Eggert\nRegie: Nike Harrach\nProduktionsfirma: ZDF (2)\n\n\n02:55 02 Die Entführung aus dem Serail\n03:00 01 Die Zauberflöte\n03:05 05 Rigoletto\n03:10 04 Il Trovatore\n
URL:https://www.moritzeggert.de/termin/oper-fuer-ungeduldige-2/
LOCATION:Sky Documentaries\, Fernsehen\, Germany
END:VEVENT
END:VCALENDAR