BEGIN:VCALENDAR
VERSION:2.0
PRODID:-//Moritz Eggert - ECPv4.9.11//NONSGML v1.0//EN
CALSCALE:GREGORIAN
METHOD:PUBLISH
X-WR-CALNAME:Moritz Eggert
X-ORIGINAL-URL:https://www.moritzeggert.de
X-WR-CALDESC:Veranstaltungen für Moritz Eggert
BEGIN:VTIMEZONE
TZID:Europe/Helsinki
BEGIN:DAYLIGHT
TZOFFSETFROM:+0200
TZOFFSETTO:+0300
TZNAME:EEST
DTSTART:20220327T010000
END:DAYLIGHT
BEGIN:STANDARD
TZOFFSETFROM:+0300
TZOFFSETTO:+0200
TZNAME:EET
DTSTART:20221030T010000
END:STANDARD
END:VTIMEZONE
BEGIN:VEVENT
DTSTART;TZID=Europe/Helsinki:20221118T200000
DTEND;TZID=Europe/Helsinki:20221118T220000
DTSTAMP:20260424T085804
CREATED:20220926T115934Z
LAST-MODIFIED:20220926T115934Z
UID:1908-1668801600-1668808800@www.moritzeggert.de
SUMMARY:One Woman Band
DESCRIPTION:\n\n\n Dorrit Bauerecker \nSoloauftritt im Rahmen des Non Piano / Toy Piano Festivals mit Auszügen aus ONE WOMAN EXPERIMENTAL MUSIC CIRCUS (siehe 11.11.2022\, Düsseldorf) \n\n\n\n
URL:https://www.moritzeggert.de/termin/one-woman-band-3-2/
LOCATION:Feldstraße 66\, 20359 Hamburg\, Hamburg\, Germany
END:VEVENT
END:VCALENDAR