BEGIN:VCALENDAR
VERSION:2.0
PRODID:-//Moritz Eggert - ECPv4.9.11//NONSGML v1.0//EN
CALSCALE:GREGORIAN
METHOD:PUBLISH
X-WR-CALNAME:Moritz Eggert
X-ORIGINAL-URL:https://www.moritzeggert.de
X-WR-CALDESC:Veranstaltungen für Moritz Eggert
BEGIN:VTIMEZONE
TZID:Europe/Helsinki
BEGIN:DAYLIGHT
TZOFFSETFROM:+0200
TZOFFSETTO:+0300
TZNAME:EEST
DTSTART:20240331T010000
END:DAYLIGHT
BEGIN:STANDARD
TZOFFSETFROM:+0300
TZOFFSETTO:+0200
TZNAME:EET
DTSTART:20241027T010000
END:STANDARD
END:VTIMEZONE
BEGIN:VEVENT
DTSTART;TZID=Europe/Helsinki:20240921T200000
DTEND;TZID=Europe/Helsinki:20240921T220000
DTSTAMP:20260423T093220
CREATED:20240730T142606Z
LAST-MODIFIED:20240730T143533Z
UID:3684-1726948800-1726956000@www.moritzeggert.de
SUMMARY:Napolov’s Percussion Marathon
DESCRIPTION:\n\n\nOrkest De Ereprijs en slagwerker Konstantyn Napolov slaan de handen ineen voor een spektakel met splinternieuwe muziek. Vier internationale componisten schreven werk voor de combinatie van slagwerker en de unieke bezetting van De Ereprijs met veel blazers en gitaren. Konstantyn Napolov is de energieke spil van deze muzikale marathon waarin hij de grenzen van de slagwerker opzoekt. \nDe Dutch Golden Collection Foundation organiseert dit concert als onderdeel van de viering van zijn vijfjarig jubileum. \n\n\n\n\n\n\n\n\n\n\n\nProgramme\n\nChing Alice Yeung  False flicker(s)\nMartín Francisco Mayo Boca Arriba\nMoritz Eggert Master & Servant\nMartin Fondse Kitchen Stories \n\n\n\n\n
URL:https://www.moritzeggert.de/termin/napolovs-percussion-marathon/
LOCATION:Nieuwe Kerk\, Den Haag\, Niederlande
END:VEVENT
END:VCALENDAR