BEGIN:VCALENDAR
VERSION:2.0
PRODID:-//Moritz Eggert - ECPv4.9.11//NONSGML v1.0//EN
CALSCALE:GREGORIAN
METHOD:PUBLISH
X-WR-CALNAME:Moritz Eggert
X-ORIGINAL-URL:https://www.moritzeggert.de
X-WR-CALDESC:Veranstaltungen für Moritz Eggert
BEGIN:VTIMEZONE
TZID:Europe/Helsinki
BEGIN:DAYLIGHT
TZOFFSETFROM:+0200
TZOFFSETTO:+0300
TZNAME:EEST
DTSTART:20220327T010000
END:DAYLIGHT
BEGIN:STANDARD
TZOFFSETFROM:+0300
TZOFFSETTO:+0200
TZNAME:EET
DTSTART:20221030T010000
END:STANDARD
END:VTIMEZONE
BEGIN:VEVENT
DTSTART;TZID=Europe/Helsinki:20221020T200000
DTEND;TZID=Europe/Helsinki:20221020T220000
DTSTAMP:20260423T134430
CREATED:20220926T114020Z
LAST-MODIFIED:20220926T114020Z
UID:1882-1666296000-1666303200@www.moritzeggert.de
SUMMARY:Nam-June Paik Hommage
DESCRIPTION:Werke von Seung-Woo Paik\, Dae-Seob Han\, Seung-Eun Lee\, Shin Kim\, Michael Quell\, Johannes K. Hildebrandt\, Susanne Stelzenbach\, u.A. \nMoritz Eggert: „Hierarchie“ für Ensemble (koreanische Erstaufführung) \nEnsemble via nova \n
URL:https://www.moritzeggert.de/termin/nam-june-paik-hommage/
LOCATION:Prugio Arthall\, Seoul\, Südkorea
END:VEVENT
END:VCALENDAR