BEGIN:VCALENDAR
VERSION:2.0
PRODID:-//Moritz Eggert - ECPv4.9.11//NONSGML v1.0//EN
CALSCALE:GREGORIAN
METHOD:PUBLISH
X-WR-CALNAME:Moritz Eggert
X-ORIGINAL-URL:https://www.moritzeggert.de
X-WR-CALDESC:Veranstaltungen für Moritz Eggert
BEGIN:VTIMEZONE
TZID:Europe/Helsinki
BEGIN:DAYLIGHT
TZOFFSETFROM:+0200
TZOFFSETTO:+0300
TZNAME:EEST
DTSTART:20250330T010000
END:DAYLIGHT
BEGIN:STANDARD
TZOFFSETFROM:+0300
TZOFFSETTO:+0200
TZNAME:EET
DTSTART:20251026T010000
END:STANDARD
END:VTIMEZONE
BEGIN:VEVENT
DTSTART;TZID=Europe/Helsinki:20250406T113000
DTEND;TZID=Europe/Helsinki:20250406T133000
DTSTAMP:20260422T130049
CREATED:20250202T195942Z
LAST-MODIFIED:20250202T200016Z
UID:4006-1743939000-1743946200@www.moritzeggert.de
SUMMARY:Musikpreis der deutschen Wirtschaft
DESCRIPTION:\n\nSeit 1953 fördert der Kulturkreis der deutschen Wirtschaft junge\, aufstrebende Talente der klassischen Musik. Der Musikpreis soll dabei zu Beginn einer Musikkarriere als kraftvolle Unterstützung dienen und richtet sich an herausragende Instrumentalisten*innen und Sänger*innen unter 30 Jahren\, die im deutschsprachigen Raum leben und mit einer eigenständigen künstlerischen Stimme Brücken zum Publikum bauen.  Der im Jahr 2024 neu ausgerichtete Musikpreis der deutschen Wirtschaft umfasst nicht nur das Preisgeld in Höhe von 15.000 Euro\, sondern vor allem Auftrittsmöglichkeiten bei renommierten Partnerfestivals im Rahmen der „Kulturkreis-Tournee“. Zu den Partnerfestivals gehören neben dem Heidelberger Frühling das Beethovenfest Bonn\, die Festspiele Mecklenburg-Vorpommern\, die Ludwigsburger Schlossfestspiele\, das Lucerne Festival sowie das Rheingau Musik Festival.  Beim Finalkonzert erhalten die drei Finalist*innen die Möglichkeit\, sich sowohl der Jury als auch dem breiten Publikum des Festivals zu präsentieren. Dabei werden sie vom Ensemble Resonanz begleitet. \nDas Programm wird zu einem späteren Zeitpunkt bekannt gegeben. \n\n\n\n\n\nJonas Müller\nBariton\nClarissa Bevilacqua\nVioline\nTabea Wink\nBlockflöte\n(spielt Moritz Eggert: „alien“) \nEnsemble Resonanz\n\nGregor A. Mayrhofer\nDirigent\n\n\n
URL:https://www.moritzeggert.de/termin/musikpreis-der-deutschen-wirtschaft/
LOCATION:Aula der Neuen Universität\, Heidelberg\, Germany
END:VEVENT
END:VCALENDAR