BEGIN:VCALENDAR
VERSION:2.0
PRODID:-//Moritz Eggert - ECPv4.9.11//NONSGML v1.0//EN
CALSCALE:GREGORIAN
METHOD:PUBLISH
X-WR-CALNAME:Moritz Eggert
X-ORIGINAL-URL:https://www.moritzeggert.de
X-WR-CALDESC:Veranstaltungen für Moritz Eggert
BEGIN:VTIMEZONE
TZID:Europe/Helsinki
BEGIN:DAYLIGHT
TZOFFSETFROM:+0200
TZOFFSETTO:+0300
TZNAME:EEST
DTSTART:20220327T010000
END:DAYLIGHT
BEGIN:STANDARD
TZOFFSETFROM:+0300
TZOFFSETTO:+0200
TZNAME:EET
DTSTART:20221030T010000
END:STANDARD
END:VTIMEZONE
BEGIN:VEVENT
DTSTART;TZID=Europe/Helsinki:20220624T180000
DTEND;TZID=Europe/Helsinki:20220624T193000
DTSTAMP:20260423T112436
CREATED:20220429T073032Z
LAST-MODIFIED:20220429T073032Z
UID:1590-1656093600-1656099000@www.moritzeggert.de
SUMMARY:Musikperformance und Roundtable | Mami Nova Project
DESCRIPTION:\nIm Rahmen des Berliner Opernpreis comPosition findet folgende Zusatzveranstaltung im Foyer des Kulturstalls statt: \n24.6.2022 ab 18 Uhr\, Kulturstall Britz\nANGST VOR MELODIE? UND: BRAUCHT ES DIE QUOTE FÜR LEBENDE KOMPONIST*INNEN?\nMusikperformance und Roundtable \nMüsste ein Musiktheater der Zukunft nicht zur Hälfte von lebenden\nKomponist*innen geschrieben werden für unsere Zeit und für ein aktuelles\nPublikum? Darf es Melodie und Zugänglichkeit scheuen\, wie viele Stücke\nder akademischen sog. Neuen Musik? Und muss es nicht endlich divers und\nvor allem gerecht werden\, mit einem Frauenanteil von 50%? \nDarüber sprechen Matthias Schulz (Intendant Staatsoper Unter\nden Linden Berlin)\, Tatjana Beyer (Theater Freiburg)\, dem Komponisten\,\nPerformer und Reformer Moritz Eggert und der international tätigen\nKomponistin Diana Syrse. \nMusikperformance: Mami Nova Project\nhttp://mami-nova.com/about \nDie kostenlose Zusatzveranstaltung im Rahmen des Neköllner Opernpreis findet im Foyer vom Kulturstall statt und ist nach email Anmeldung kostenlos. \nInfos und Anmeldung: tickets@neuköllneroper.de \n\nZeit:\n24. Juni 2022\, 18:00–19:30 Uhr \nOrt:\nKulturstall auf dem Gutshof\nAlt-Britz 81\n12359 Berlin \n
URL:https://www.moritzeggert.de/termin/musikperformance-und-roundtable-mami-nova-project/
LOCATION:Kulturstall auf dem Gutshof\, Alt-Britz 81\, Berlin\, 12359\, Germany
END:VEVENT
END:VCALENDAR