BEGIN:VCALENDAR
VERSION:2.0
PRODID:-//Moritz Eggert - ECPv4.9.11//NONSGML v1.0//EN
CALSCALE:GREGORIAN
METHOD:PUBLISH
X-WR-CALNAME:Moritz Eggert
X-ORIGINAL-URL:https://www.moritzeggert.de
X-WR-CALDESC:Veranstaltungen für Moritz Eggert
BEGIN:VTIMEZONE
TZID:Europe/Helsinki
BEGIN:DAYLIGHT
TZOFFSETFROM:+0200
TZOFFSETTO:+0300
TZNAME:EEST
DTSTART:20250330T010000
END:DAYLIGHT
BEGIN:STANDARD
TZOFFSETFROM:+0300
TZOFFSETTO:+0200
TZNAME:EET
DTSTART:20251026T010000
END:STANDARD
END:VTIMEZONE
BEGIN:VEVENT
DTSTART;TZID=Europe/Helsinki:20250828T120000
DTEND;TZID=Europe/Helsinki:20250828T140000
DTSTAMP:20260423T135905
CREATED:20250820T110802Z
LAST-MODIFIED:20250820T110802Z
UID:4424-1756382400-1756389600@www.moritzeggert.de
SUMMARY:Musikhochschule Aachen präsentiert…
DESCRIPTION:\n\n\nValerie Haunz (Sopran)\nSofi Simeonidis (Klavier) \n\n\n\n\nDie 2023 ins Leben gerufene Mittagskonzertreihe HayNoon geht in die dritte Runde und diesmal dreht sich alles um das Lied. In fünf einstündigen Konzerten präsentieren die Musikhochschulen des Landes NRW ihre vielversprechendsten Talente. \n\n\nMoritz Eggert (*1965)\n›Wiegenlied‹ aus ›Singet leise‹ \nJansug Kachidze (1935–2002) / Franz Schubert (1797–1828)\nImprovisation: Georgisches Wiegenlied und Schuberts ›Wiegenlied‹ D 498 \nOlivier Messiaen (1908–1992)\n›Minuit pile et face‹ aus ›Chants de Terre et de Ciel‹ \nLiza Lehmann (1862–1918)\n›If no one ever marries me‹ \nWolfgang Rihm (1952–2024)\n›Tomorrow is Saint Valentine’s Day‹ aus ›Ophelia sings‹ \nJoseph Haydn (1732–1809)\n›She never told her love‹ Hob. XXVIa:34 \nOlivier Messiaen\n›Bail avec Mi‹ aus ›Chants de Terre et de Ciel‹ \nFranz Schubert\n›Der Zwerg‹ D 771 \nSamuel Barber (1910–1981)\n›Church bell at night‹ aus ›Hermit Songs‹ op. 29 Nr. 2 \nNikolai Medtner (1880–1951)\n›Der Untreue Knabe‹ op. 15 Nr. 10 \nJoseph Haydn\n›The spirit’s song‹ Hob. XXVIa:41\n›O tuneful voice‹ Hob. XXVIa:42\n›Das Leben ist ein Traum‹ Hob. XXVI:21 \nMoritz Eggert\n›Die Menschen bei Nacht‹ aus ›Singet leise‹ \n\n
URL:https://www.moritzeggert.de/termin/musikhochschule-aachen-praesentiert/
LOCATION:Kapitelsaal\, Rathaus\, Brühl\, Germany
END:VEVENT
END:VCALENDAR