BEGIN:VCALENDAR
VERSION:2.0
PRODID:-//Moritz Eggert - ECPv4.9.11//NONSGML v1.0//EN
CALSCALE:GREGORIAN
METHOD:PUBLISH
X-WR-CALNAME:Moritz Eggert
X-ORIGINAL-URL:https://www.moritzeggert.de
X-WR-CALDESC:Veranstaltungen für Moritz Eggert
BEGIN:VTIMEZONE
TZID:Europe/Helsinki
BEGIN:DAYLIGHT
TZOFFSETFROM:+0200
TZOFFSETTO:+0300
TZNAME:EEST
DTSTART:20220327T010000
END:DAYLIGHT
BEGIN:STANDARD
TZOFFSETFROM:+0300
TZOFFSETTO:+0200
TZNAME:EET
DTSTART:20221030T010000
END:STANDARD
END:VTIMEZONE
BEGIN:VEVENT
DTSTART;TZID=Europe/Helsinki:20220603T100000
DTEND;TZID=Europe/Helsinki:20220603T110000
DTSTAMP:20260423T152133
CREATED:20220519T083910Z
LAST-MODIFIED:20220519T084258Z
UID:1636-1654250400-1654254000@www.moritzeggert.de
SUMMARY:Musik. Markt. Medien
DESCRIPTION:\n\nAm 3.6. spreche ich mit Irene Suchy (Ö1\, ORF) über…vermutlich Musik\, Markt und Medien\, denn so heißt die Sendung!\n\n\nhttps://oe1.orf.at/programm/20220603/681611/Musik-Markt-Medien\n\n\n
URL:https://www.moritzeggert.de/termin/musik-markt-medien/
LOCATION:Ö1\, Österreich
END:VEVENT
END:VCALENDAR