BEGIN:VCALENDAR
VERSION:2.0
PRODID:-//Moritz Eggert - ECPv4.9.11//NONSGML v1.0//EN
CALSCALE:GREGORIAN
METHOD:PUBLISH
X-WR-CALNAME:Moritz Eggert
X-ORIGINAL-URL:https://www.moritzeggert.de
X-WR-CALDESC:Veranstaltungen für Moritz Eggert
BEGIN:VTIMEZONE
TZID:Europe/Helsinki
BEGIN:DAYLIGHT
TZOFFSETFROM:+0200
TZOFFSETTO:+0300
TZNAME:EEST
DTSTART:20230326T010000
END:DAYLIGHT
BEGIN:STANDARD
TZOFFSETFROM:+0300
TZOFFSETTO:+0200
TZNAME:EET
DTSTART:20231029T010000
END:STANDARD
END:VTIMEZONE
BEGIN:VEVENT
DTSTART;TZID=Europe/Helsinki:20231118T170000
DTEND;TZID=Europe/Helsinki:20231118T190000
DTSTAMP:20260424T154652
CREATED:20231101T174531Z
LAST-MODIFIED:20231101T174531Z
UID:3154-1700326800-1700334000@www.moritzeggert.de
SUMMARY:Musik Hier und Jetzt
DESCRIPTION:\n\n\n\nKonzert Blockflöte Solo\nJulia Ziegler \n18. November 2023 17 Uhr\nEvangelische Kirche Buxach \nProgramm: \n  \nClaude Debussy (1862-1918) \n  \nSyrinx \n  \nJohann Sebastian Bach (1685-1650) \n  \nPartita in a- moll für Flöte solo BWV 1013 \nAllemande – Corrente –Sarabande – Bourée Anglaise \n  \nMoritz Eggert (geb. 1964) \n  \nAußer Atem \n  \nAnonymus : \n  \nIstampitta „In pro“\nBegleitet von  Jeremy Proz\, Percussion \nThe Reel of Tulloch  \n(Arrangement für Blockflöte und Percussion) \nBegleitet von Jeremy Proz\, Percussion  \n  \n  \nGeorg Phillip Telemann (1681-1767) \nFantasie No. 2 in a- moll  \nGrave – Vivace –  Adagio –  Allegro \n  \nAlastair Penman (geb. 1988) \n  \nMirrored lines  \n  \nJacob van Eyck (1590 – 1657) \n  \nComagain  \nThema und Variationen über das Lied \n„Come again“ von John Dowland \n  \nKartenvorbestellung unter\nticketsmusikhierundjetzt@t-online.de\noder\n08393/9227160 \n\n\n\n\n
URL:https://www.moritzeggert.de/termin/musik-hier-und-jetzt/
LOCATION:Evangelische Kirche Buxach\, Germany
END:VEVENT
END:VCALENDAR