BEGIN:VCALENDAR
VERSION:2.0
PRODID:-//Moritz Eggert - ECPv4.9.11//NONSGML v1.0//EN
CALSCALE:GREGORIAN
METHOD:PUBLISH
X-WR-CALNAME:Moritz Eggert
X-ORIGINAL-URL:https://www.moritzeggert.de
X-WR-CALDESC:Veranstaltungen für Moritz Eggert
BEGIN:VTIMEZONE
TZID:Europe/Helsinki
BEGIN:DAYLIGHT
TZOFFSETFROM:+0200
TZOFFSETTO:+0300
TZNAME:EEST
DTSTART:20240331T010000
END:DAYLIGHT
BEGIN:STANDARD
TZOFFSETFROM:+0300
TZOFFSETTO:+0200
TZNAME:EET
DTSTART:20241027T010000
END:STANDARD
END:VTIMEZONE
BEGIN:VEVENT
DTSTART;TZID=Europe/Helsinki:20240508T193000
DTEND;TZID=Europe/Helsinki:20240508T210000
DTSTAMP:20260425T112525
CREATED:20240129T101118Z
LAST-MODIFIED:20240129T101118Z
UID:3336-1715196600-1715202000@www.moritzeggert.de
SUMMARY:morphing
DESCRIPTION:Am Anfang war das nichts: Eine tiefe\, unberührte Leere. Plötzlich ein Geräusch an der Grenze zum nichts: Nach und nach deutlicher – ein Hauch von Bewegung\, kaum wahrnehmbar. Die eine Form löst sich auf\, zerfällt in einer flüchtigen Bewegung\, nur um sich in einer vollkommen neuen Erscheinung wieder zu zeigen. \nDas Konzert als Ort der Verwandlung\, in dem Zustände verschwimmen und sich die Musik kontinuierlich transformiert. Ein Raum für visuelle und akustische Reflexion\, um die Komplexität und Schönheit des Übergangs zu betrachten. \nMoritz Eggert: morphing (UA der Fassung für Tetra Brass und Hanni Liang) \n\nKünstler:innen\nTetra Brass – mehr…\nLuca Chiché (Trompete)\, Aljoscha Zierow (Trompete)\, Christian Traute (Posaune)\, Jakob Grimm (Posaune)\nHanni Liang (Klavier) – mehr… \nRobert Seidel (Video-Installation) – mehr… \n\nOrt\nTONALi SAAL\nKleiner Kielort 3 – 5\n20144 Hamburg \n
URL:https://www.moritzeggert.de/termin/morphing/
LOCATION:Tonali Saal\, Kleiner Kielort 3-5\, Hamburg\, 20144\, Germany
END:VEVENT
END:VCALENDAR