BEGIN:VCALENDAR
VERSION:2.0
PRODID:-//Moritz Eggert - ECPv4.9.11//NONSGML v1.0//EN
CALSCALE:GREGORIAN
METHOD:PUBLISH
X-WR-CALNAME:Moritz Eggert
X-ORIGINAL-URL:https://www.moritzeggert.de
X-WR-CALDESC:Veranstaltungen für Moritz Eggert
BEGIN:VTIMEZONE
TZID:Europe/Helsinki
BEGIN:DAYLIGHT
TZOFFSETFROM:+0200
TZOFFSETTO:+0300
TZNAME:EEST
DTSTART:20250330T010000
END:DAYLIGHT
BEGIN:STANDARD
TZOFFSETFROM:+0300
TZOFFSETTO:+0200
TZNAME:EET
DTSTART:20251026T010000
END:STANDARD
END:VTIMEZONE
BEGIN:VEVENT
DTSTART;TZID=Europe/Helsinki:20250429T130000
DTEND;TZID=Europe/Helsinki:20250429T150000
DTSTAMP:20260423T164801
CREATED:20250331T080454Z
LAST-MODIFIED:20250331T080454Z
UID:4125-1745931600-1745938800@www.moritzeggert.de
SUMMARY:Mittagskonzert SWR Kultur
DESCRIPTION:Alte Kirche Fautenbach und\nLiedwettbewerb „Fürstin Eugénie”\,\nHechingen\nRobert Kahn:\nTrio für Klarinette\, Violoncello\nund Klavier g-Moll op. 45\nBawandi Trio:\nMario Höring (Klavier)\nAlexandre Castro-Balbi (Violoncello)\nPatrick Hollich (Klarinette)\n(Konzert vom 16. März 2025\nin der Alten Kirche Fautenbach) \nZwischen Sturm und Stille\nValaerie Haunz (Sopran)\nSofi Simeonidis (Klavier)\nLieder von Moritz Eggert\,\nSamuel Barber\, Olivier Messiaen\,\nWolfgang Rihm\, Franz Schubert\,\nAmy Beach und Franz Liszt\n(1. Teil des Preisträgerinnenkonzerts\nLiedwettbewerb „Fürstin Eugénie“\nvom 8. Februar 2025 in Hechingen) \nVincent d’Indy:\nTrio für Klarinette\, Violoncello\nund Klavier B-Dur op. 29\nBawandi Trio:\nMario Höring (Klavier)\nAlexandre Castro-Balbi (Violoncello)\nPatrick Hollich (Klarinette)\n(Konzert vom 16. März 2025\nin der Alten Kirche Fautenbach) \n
URL:https://www.moritzeggert.de/termin/mittagskonzert-swr-kultur/
LOCATION:SWR Kultur\, Germany
END:VEVENT
END:VCALENDAR