BEGIN:VCALENDAR
VERSION:2.0
PRODID:-//Moritz Eggert - ECPv4.9.11//NONSGML v1.0//EN
CALSCALE:GREGORIAN
METHOD:PUBLISH
X-WR-CALNAME:Moritz Eggert
X-ORIGINAL-URL:https://www.moritzeggert.de
X-WR-CALDESC:Veranstaltungen für Moritz Eggert
BEGIN:VTIMEZONE
TZID:Europe/Helsinki
BEGIN:DAYLIGHT
TZOFFSETFROM:+0200
TZOFFSETTO:+0300
TZNAME:EEST
DTSTART:20240331T010000
END:DAYLIGHT
BEGIN:STANDARD
TZOFFSETFROM:+0300
TZOFFSETTO:+0200
TZNAME:EET
DTSTART:20241027T010000
END:STANDARD
END:VTIMEZONE
BEGIN:VEVENT
DTSTART;TZID=Europe/Helsinki:20240503T193000
DTEND;TZID=Europe/Helsinki:20240503T210000
DTSTAMP:20260424T202029
CREATED:20240312T152715Z
LAST-MODIFIED:20240312T152733Z
UID:3421-1714764600-1714770000@www.moritzeggert.de
SUMMARY:Liednacht
DESCRIPTION:Moritz Eggert: „singet leise“ \nValerie Haunz (sopr.) und Sofi Simeonidis (pf.) \n
URL:https://www.moritzeggert.de/termin/liederabend-singet-leise-der-klang-der-stille-2/
LOCATION:Musikhochschule Köln\, Unter Krahnenbäumen 87\, Köln\, 50668\, Germany
END:VEVENT
END:VCALENDAR