BEGIN:VCALENDAR
VERSION:2.0
PRODID:-//Moritz Eggert - ECPv4.9.11//NONSGML v1.0//EN
CALSCALE:GREGORIAN
METHOD:PUBLISH
X-WR-CALNAME:Moritz Eggert
X-ORIGINAL-URL:https://www.moritzeggert.de
X-WR-CALDESC:Veranstaltungen für Moritz Eggert
BEGIN:VTIMEZONE
TZID:Europe/Helsinki
BEGIN:DAYLIGHT
TZOFFSETFROM:+0200
TZOFFSETTO:+0300
TZNAME:EEST
DTSTART:20250330T010000
END:DAYLIGHT
BEGIN:STANDARD
TZOFFSETFROM:+0300
TZOFFSETTO:+0200
TZNAME:EET
DTSTART:20251026T010000
END:STANDARD
END:VTIMEZONE
BEGIN:VEVENT
DTSTART;TZID=Europe/Helsinki:20250505T203000
DTEND;TZID=Europe/Helsinki:20250505T220000
DTSTAMP:20260423T091613
CREATED:20250314T102719Z
LAST-MODIFIED:20250314T102719Z
UID:4089-1746477000-1746482400@www.moritzeggert.de
SUMMARY:Les Percussions Claviers De Lyon\, Lumiere ! Musiques De Films
DESCRIPTION:Le concert Les Percussions Claviers De Lyon\, Lumiere ! Musiques De Films a lieu dans le cadre du Festival des Concerts de Vollore 2024. \nDans le cadre du 47ème Festival des Concerts de Vollore (15 concerts – 15 lieux – Plus de 60 artistes invités)\, les PERCUSSIONS CLAVIERS DE LYON\, incontournables en France et à l’International\, mettent un « COUP DE PROJECTEUR » sur la MUSIQUE DE GRANDS FILMS pour réveiller nos âmes rêveuses et nous ramener aux plus belles pages de l’Art cinématographique … à ne pas louper entre amis ou en famille ! \nLES PERCUSSIONS CLAVIERES DE LYON \nCinq musiciens : \nSylvie AUBELLE\, Renaud CHOLEWA\, Jérémy DAILLET\, Gilles DUMOULIN\, Lara OYEDEPO \nOEuvres de : \nDanny ELFMAN (1953-) \nNino ROTA (1911-1979) \nMaurice RAVEL (1875-1937) \nMoritz EGGERT (1965-) \nHector BERLIOZ (1803-1869) \n… \nLes PERCUSSIONS CLAVIERS DE LYON sont des figures incontournables de la percussion occidentale en France et à l’international. \nAvec le concert « LUMIERE ! »\, les PERCUSSIONS CLAVIERS DE LYON mettent un coup de projecteur sur la MUSIQUE de GRANDS FILMS\, et révèlent que de nombreuses « BO » conservent leur force évocatrice au-delà de l’oeuvre cinématographique qui leur a donné naissance ! \nCe quintette d’exception puise dans les oeuvres de quelques compositeurs illustres du grand écran : Danny ELFMAN (films de Tim BURTON)\, Nino ROTA (films de Federico FELLINI)\, Joe HISAICHIHI (films de Hayao MIYAZAKI) … \nRESTAURATION « FORMULE CONCERT » \n
URL:https://www.moritzeggert.de/termin/les-percussions-claviers-de-lyon-lumiere-musiques-de-films-3-2-2/
LOCATION:Auditorium de la Louvière\, Epinal\, 88000\, France
END:VEVENT
END:VCALENDAR