BEGIN:VCALENDAR
VERSION:2.0
PRODID:-//Moritz Eggert - ECPv4.9.11//NONSGML v1.0//EN
CALSCALE:GREGORIAN
METHOD:PUBLISH
X-WR-CALNAME:Moritz Eggert
X-ORIGINAL-URL:https://www.moritzeggert.de
X-WR-CALDESC:Veranstaltungen für Moritz Eggert
BEGIN:VTIMEZONE
TZID:Europe/Helsinki
BEGIN:DAYLIGHT
TZOFFSETFROM:+0200
TZOFFSETTO:+0300
TZNAME:EEST
DTSTART:20220327T010000
END:DAYLIGHT
BEGIN:STANDARD
TZOFFSETFROM:+0300
TZOFFSETTO:+0200
TZNAME:EET
DTSTART:20221030T010000
END:STANDARD
END:VTIMEZONE
BEGIN:VEVENT
DTSTART;TZID=Europe/Helsinki:20220715T200000
DTEND;TZID=Europe/Helsinki:20220715T220000
DTSTAMP:20260423T153940
CREATED:20220601T134551Z
LAST-MODIFIED:20220601T134551Z
UID:1659-1657915200-1657922400@www.moritzeggert.de
SUMMARY:La Traviata Remixed
DESCRIPTION:„La Traviata REMIXED“ \n\n  \n\n2022 wird die „Remixed-Fassung“ (Moritz Eggert/Jacopo Salvatori) der berühmten Verdi-Oper „La Traviata“ auf der Naturbühne Schönberg in Grafenwöhr aufgeführt. Elemente des Crossover ermöglichen eine Neuorchestrierung\, unterstützt durch Drumset\, Saxophon usw.\, sowie konzipiert als 90-Minuten-Fassung. So ergibt sich ein ganz neuer Höreindruck dieses bekannten Werks. Mit dabei sind exzellente Solistinnen und Solisten\, die Regisseurin Magdalena Weingut in Szene setzen wird. Für das stimmige Ambiente in Bühnenbild und Kostüm sorgt Ausstatterin Katya Szukszta\, die musikalische Leitung hat Festivalleiter Michael Konstantin inne. \nInhalt der Oper \nDie Edelprostituierte Violetta Valéry stürzt sich in ein Leben voll Luxus und Ausgelassenheit\, um ihre lebensbedrohliche Krankheit zu vergessen. Bei einer Feier in ihrem Haus verliebt sie sich jedoch in Alfredo Germont. Dieser leidenschaftliche junge Mann schafft es durch seine ehrliche Zuneigung\, sie von ihrem Lasterleben abzubringen\, das nur Oberflächlichkeiten kennt. \nVioletta lässt alles zurück\, um glücklich mit Alfredo auf dem Lande zu leben. Sie hat jedoch finanzielle Sorgen. Alfredos Vater beschwört Violetta zudem\, die Verbindung mit seinem Sohn abzubrechen\, denn eine Liaison mit einer Prostituierten ist ein Skandal\, der die Heiratspläne für Alfredos jüngere Schwester zunichte machen könnte. Anfänglich sträubt sich Violetta\, gibt aber dann Germonts inständigen Bitten nach. Sie lässt Alfredo in dem Glauben\, dass sie ihn verlasse\, um zu ihrem ehemaligen Gönner zurückzukehren\, und willigt ein\, an einer Party teilzunehmen\, wo sie dann im Arm des Baron Douphol erscheint. Tief betroffen und rasend vor Eifersucht beleidigt Alfredo sie vor allen Anwesenden und wirft ihr Geld als Bezahlung für die Zeit mit ihr vor die Füße. \nEinige Monate vergehen. Vergessen und finanziell ruiniert\, lebt Violetta sterbenskrank in ihrem leergeräumten Apartment. Einzig die Hoffnung\, Alfredo noch einmal wiederzusehen\, hält sie am Leben. Als dieser mit seinem Vater endlich erscheint\, ist es zu spät\, sie stirbt in den Armen ihres Geliebten. \nDen Mitgliederpreis erhalten nur Mitglieder des Vereins zur Förderung des Opernfestivals Oberpfalz. \n\n\n\nTrailer: http://youtu.be/20BhT2Q19yM\n\n  \n\nTicketpreise\n\n\n Sitzplatz  \n\n\nMitglied 24\,75 €\nSchüler/Studenten 24\,75 €\nNormalpreis 49\,50 €\n\n\n\n\n
URL:https://www.moritzeggert.de/termin/la-traviata-remixed-deutsche-erstauffuehrung-2-2-2/
LOCATION:Segelflughalle\, Prälat-Wolker-Straße 4\, Cham\, 93413\, Germany
END:VEVENT
END:VCALENDAR