BEGIN:VCALENDAR
VERSION:2.0
PRODID:-//Moritz Eggert - ECPv4.9.11//NONSGML v1.0//EN
CALSCALE:GREGORIAN
METHOD:PUBLISH
X-WR-CALNAME:Moritz Eggert
X-ORIGINAL-URL:https://www.moritzeggert.de
X-WR-CALDESC:Veranstaltungen für Moritz Eggert
BEGIN:VTIMEZONE
TZID:Europe/Helsinki
BEGIN:DAYLIGHT
TZOFFSETFROM:+0200
TZOFFSETTO:+0300
TZNAME:EEST
DTSTART:20210328T010000
END:DAYLIGHT
BEGIN:STANDARD
TZOFFSETFROM:+0300
TZOFFSETTO:+0200
TZNAME:EET
DTSTART:20211031T010000
END:STANDARD
END:VTIMEZONE
BEGIN:VEVENT
DTSTART;TZID=Europe/Helsinki:20211110T160000
DTEND;TZID=Europe/Helsinki:20211110T173000
DTSTAMP:20260424T170248
CREATED:20211112T095038Z
LAST-MODIFIED:20211112T095038Z
UID:1359-1636560000-1636565400@www.moritzeggert.de
SUMMARY:Kultur aktuell
DESCRIPTION:0LC 00000Best.Nr 0 			Marian Lux Wieder da Gayle Tufts\, Gesang; Marian Lux\, Klavier 	01:12\nROUNDERLC 03719Best.Nr 0888072361577 			Joseph A. „Joe“ Burke Getting some fun out of life Ensemble\nMadeleine Peyroux\, Gesang 	03:11\nAccordLC 06413Best.Nr ACD 167-2 			Joseph Haydn Sinfonie Nr. 6 D-Dur\, Hob. I:6 4. Satz: Finale. Allegro NFM Barockorchester Wrocław\nJarosław Thiel 	04:37\nPerfect NoiseLC 52676Best.Nr PN 2009 			Moritz Eggert traité des passions amour – Liebe Ensemble Volcania\nElisabeth Champillon\, Blockflöte\nElisabeth Champillon 	03:20 \n
URL:https://www.moritzeggert.de/termin/kultur-aktuell/
LOCATION:RBB Kultur\, Germany
END:VEVENT
END:VCALENDAR