BEGIN:VCALENDAR
VERSION:2.0
PRODID:-//Moritz Eggert - ECPv4.9.11//NONSGML v1.0//EN
CALSCALE:GREGORIAN
METHOD:PUBLISH
X-WR-CALNAME:Moritz Eggert
X-ORIGINAL-URL:https://www.moritzeggert.de
X-WR-CALDESC:Veranstaltungen für Moritz Eggert
BEGIN:VTIMEZONE
TZID:Europe/Helsinki
BEGIN:DAYLIGHT
TZOFFSETFROM:+0200
TZOFFSETTO:+0300
TZNAME:EEST
DTSTART:20210328T010000
END:DAYLIGHT
BEGIN:STANDARD
TZOFFSETFROM:+0300
TZOFFSETTO:+0200
TZNAME:EET
DTSTART:20211031T010000
END:STANDARD
END:VTIMEZONE
BEGIN:VEVENT
DTSTART;TZID=Europe/Helsinki:20210829T113000
DTEND;TZID=Europe/Helsinki:20210829T133000
DTSTAMP:20260423T140230
CREATED:20210704T083901Z
LAST-MODIFIED:20210704T083901Z
UID:1065-1630236600-1630243800@www.moritzeggert.de
SUMMARY:UA "Montana Sacra" für Sopran\, Kammerensemble und 5 Performer
DESCRIPTION:In der Sonntags-Matinée beschäftigen wir uns mit der Fassade des Christus-Pavillons: Seinen kunstvoll gefüllten Fensterzwischenräume werden musikalische Entsprechungen u.a. von Antonio Vivaldi und Franz Doppler zu Seite gestellt. Die Ernst-von-Siemens-Stiftung ermöglicht zudem die Uraufführung von Moritzs Eggerts „Montana Sacra“ als Finale des Festivals.\nEnsemble der Sommerkonzerte Volkenroda\, Moritz Eggert\, Leitung \n
URL:https://www.moritzeggert.de/termin/komponistengespraech-anlaesslich-der-ua-montana-sacra-fuer-sopran-kammerensemble-und-5-performer-2/
LOCATION:Kloster Volkenroda\, Germany
END:VEVENT
END:VCALENDAR