BEGIN:VCALENDAR
VERSION:2.0
PRODID:-//Moritz Eggert - ECPv4.9.11//NONSGML v1.0//EN
CALSCALE:GREGORIAN
METHOD:PUBLISH
X-WR-CALNAME:Moritz Eggert
X-ORIGINAL-URL:https://www.moritzeggert.de
X-WR-CALDESC:Veranstaltungen für Moritz Eggert
BEGIN:VTIMEZONE
TZID:Europe/Helsinki
BEGIN:DAYLIGHT
TZOFFSETFROM:+0200
TZOFFSETTO:+0300
TZNAME:EEST
DTSTART:20260329T010000
END:DAYLIGHT
BEGIN:STANDARD
TZOFFSETFROM:+0300
TZOFFSETTO:+0200
TZNAME:EET
DTSTART:20261025T010000
END:STANDARD
END:VTIMEZONE
BEGIN:VEVENT
DTSTART;TZID=Europe/Helsinki:20260120T233000
DTEND;TZID=Europe/Helsinki:20260120T233000
DTSTAMP:20260423T153448
CREATED:20260117T114737Z
LAST-MODIFIED:20260117T114737Z
UID:4650-1768951800-1768951800@www.moritzeggert.de
SUMMARY:Interview with Gerry Fialka\, part 2
DESCRIPTION: InnerViews#747 Pt2 Moritz Eggert https://www.moritzeggert.de/ 1-20–26 interview by Gerry Fialka ..https://laughtears.com/ \n
URL:https://www.moritzeggert.de/termin/interview-with-gerry-fialka-part-2/
END:VEVENT
END:VCALENDAR