BEGIN:VCALENDAR
VERSION:2.0
PRODID:-//Moritz Eggert - ECPv4.9.11//NONSGML v1.0//EN
CALSCALE:GREGORIAN
METHOD:PUBLISH
X-WR-CALNAME:Moritz Eggert
X-ORIGINAL-URL:https://www.moritzeggert.de
X-WR-CALDESC:Veranstaltungen für Moritz Eggert
BEGIN:VTIMEZONE
TZID:Europe/Helsinki
BEGIN:DAYLIGHT
TZOFFSETFROM:+0200
TZOFFSETTO:+0300
TZNAME:EEST
DTSTART:20250330T010000
END:DAYLIGHT
BEGIN:STANDARD
TZOFFSETFROM:+0300
TZOFFSETTO:+0200
TZNAME:EET
DTSTART:20251026T010000
END:STANDARD
END:VTIMEZONE
BEGIN:VEVENT
DTSTART;TZID=Europe/Helsinki:20250420T080000
DTEND;TZID=Europe/Helsinki:20250420T170000
DTSTAMP:20260423T165544
CREATED:20250420T080420Z
LAST-MODIFIED:20250420T080439Z
UID:4200-1745136000-1745168400@www.moritzeggert.de
SUMMARY:Interpretation Neue Musik
DESCRIPTION:Konzert der Interpretationsklassen\nMitwirkende \nStudierende der Masterstudiengänge Interpretation Neue Musik und Interpretation Neue Klaviermusik\nStudio für Elektronische Musik\nErrikos Sidiropoulos-Velidis → Klangregie\nKatharina Schmauder → Leitung\nProgramm \nRepertoirestücke der Neuen Musik und Werke aus den Kompositionsklassen \nu.a. Moritz Eggert: „Der weiße Garten“ für Sopran und Fagott\nElza Loginova\, Sopran und Andrea Calí\, Fagott. \n
URL:https://www.moritzeggert.de/termin/interpretation-neue-musik/
LOCATION:Hochschule für Musik Freiburg\, Kammermusiksaal\, Germany
END:VEVENT
END:VCALENDAR