BEGIN:VCALENDAR
VERSION:2.0
PRODID:-//Moritz Eggert - ECPv4.9.11//NONSGML v1.0//EN
CALSCALE:GREGORIAN
METHOD:PUBLISH
X-WR-CALNAME:Moritz Eggert
X-ORIGINAL-URL:https://www.moritzeggert.de
X-WR-CALDESC:Veranstaltungen für Moritz Eggert
BEGIN:VTIMEZONE
TZID:Europe/Helsinki
BEGIN:DAYLIGHT
TZOFFSETFROM:+0200
TZOFFSETTO:+0300
TZNAME:EEST
DTSTART:20230326T010000
END:DAYLIGHT
BEGIN:STANDARD
TZOFFSETFROM:+0300
TZOFFSETTO:+0200
TZNAME:EET
DTSTART:20231029T010000
END:STANDARD
END:VTIMEZONE
BEGIN:VEVENT
DTSTART;TZID=Europe/Helsinki:20231019T200000
DTEND;TZID=Europe/Helsinki:20231019T230000
DTSTAMP:20260422T184722
CREATED:20231005T114054Z
LAST-MODIFIED:20231005T114054Z
UID:3081-1697745600-1697756400@www.moritzeggert.de
SUMMARY:HIDALGO Großer Liedpreis
DESCRIPTION:\n\n\n\nDonnerstag\, 19. Oktober 2023\, 20:00 Uhr\nbis 23:00 Uhr \nGasteig HP8\, Hans-Preißinger-Straße ß\, 81371 München\n\n\n\nTickets kaufen ab 12\,00\n\n\n\n\n\nSONG BATTLE MIT DEZIBELMESSUNG \nWir haben keine Lust auf langweilige Wettbewerbe und rufen auf zum Grand Prix der gut geölten Stimmbänder! Acht mutige Lied-Duos (Sänger*in + Pianist*in) singen um den Großen Liedpreis von HIDALGO. Wir bieten ein Best of der Liedkunst im Schnelldurchlauf. Die jungen Musiker*innen liefern sich ihren künstlerischen Wettstreit in der Trafohalle des Gasteig HP8. Es gibt einen Jury- und einen Publikumspreis. Das heißt: Du stimmst auch mit ab. Klatschen\, buhen\, jubilieren – alles erlaubt. Am Ende küren wir die Siegerteams. Gute Lieder\, alles Spaß! \n8 LIED-DUOS Bekanntgabe bis Ende September | VORJURY Toni Ming Geiger\, Maria Hegele\, Andromahi Raptis | JURY Moritz Eggert\, Sibylla Rubens\, Daniela Sindram\, Pauliina Tukiainen\, Tom Wilmersdörffer | KONZERTDESIGN Tom Wilmersdörffer | Publikumspreis gestiftet durch Nikolaus von Grundherr \nUnd wer richtet das aus? Wir sind der HIDALGO – Münchens spannendstes Klassik-Start-Up. Wir verbinden paradoxe Welten zu intensiven\, rauschhaften Erlebnissen. Dafür kämpft unser interdisziplinäre Team: https://hidalgofestival.de/kosmos/hidalgo-ggmbh/ seit 2016 mit Leidenschaft und höchstem Anspruch. Klassische Musik verstehen wir als aktuelle Ausdrucksform. Dazu produzieren wir innovative Konzertformate: https://hidalgofestival.de/produktion/ und veranstalten das jährliche HIDALGO Festival für junge Klassik: https://hidalgofestival.de/mensch-maschine/ (2.-30. Oktober 2023). Wir entwerfen Video-Installationen\, beauftragen Sound-Design und konfrontieren romantische Dichtung mit moderner Lyrik. Erlaubt ist\, was sich zu etwas Größerem zusammenfügt.\n
URL:https://www.moritzeggert.de/termin/hidalgo-grosser-liedpreis/
LOCATION:Gasteig HP 8\, Isarphilharmonie\, München\, Germany
END:VEVENT
END:VCALENDAR