BEGIN:VCALENDAR
VERSION:2.0
PRODID:-//Moritz Eggert - ECPv4.9.11//NONSGML v1.0//EN
CALSCALE:GREGORIAN
METHOD:PUBLISH
X-WR-CALNAME:Moritz Eggert
X-ORIGINAL-URL:https://www.moritzeggert.de
X-WR-CALDESC:Veranstaltungen für Moritz Eggert
BEGIN:VTIMEZONE
TZID:Europe/Helsinki
BEGIN:DAYLIGHT
TZOFFSETFROM:+0200
TZOFFSETTO:+0300
TZNAME:EEST
DTSTART:20250330T010000
END:DAYLIGHT
BEGIN:STANDARD
TZOFFSETFROM:+0300
TZOFFSETTO:+0200
TZNAME:EET
DTSTART:20251026T010000
END:STANDARD
END:VTIMEZONE
BEGIN:VEVENT
DTSTART;TZID=Europe/Helsinki:20250914T200000
DTEND;TZID=Europe/Helsinki:20250914T210000
DTSTAMP:20260420T162554
CREATED:20250731T134726Z
LAST-MODIFIED:20250828T081207Z
UID:4380-1757880000-1757883600@www.moritzeggert.de
SUMMARY:Hämmerklavier XXXIII: Ultra (World Premiere)
DESCRIPTION:The German composer Moritz Eggert is known for exploring extremes in his work\, both in terms of intensifying musical material and the physical presence of performers\, and for his frequent employment of humor and irony in his music. This year he is one of the jury members for the Gaudeamus Award. \nAt Gaudeamus Festival 2025 he performs an ‘appetizer’ for the 13th part in his famous Hämmerklavier series. He will perform an hour of what is supposed to eventually be a 12-hour physically exhausting tour-de-force for one player. A piece that tries to pose a challenge for a performer regardless if there is an audience witnessing or not. \n
URL:https://www.moritzeggert.de/termin/haemmerklavier-xxxiii-ultra-world-premiere/
LOCATION:Tivoli Vredenburg\, Utrecht\, Niederlande
END:VEVENT
END:VCALENDAR