BEGIN:VCALENDAR
VERSION:2.0
PRODID:-//Moritz Eggert - ECPv4.9.11//NONSGML v1.0//EN
CALSCALE:GREGORIAN
METHOD:PUBLISH
X-WR-CALNAME:Moritz Eggert
X-ORIGINAL-URL:https://www.moritzeggert.de
X-WR-CALDESC:Veranstaltungen für Moritz Eggert
BEGIN:VTIMEZONE
TZID:Europe/Helsinki
BEGIN:DAYLIGHT
TZOFFSETFROM:+0200
TZOFFSETTO:+0300
TZNAME:EEST
DTSTART:20210328T010000
END:DAYLIGHT
BEGIN:STANDARD
TZOFFSETFROM:+0300
TZOFFSETTO:+0200
TZNAME:EET
DTSTART:20211031T010000
END:STANDARD
END:VTIMEZONE
BEGIN:VEVENT
DTSTART;TZID=Europe/Helsinki:20210719T160000
DTEND;TZID=Europe/Helsinki:20210719T180000
DTSTAMP:20260421T155741
CREATED:20210720T064101Z
LAST-MODIFIED:20210720T064101Z
UID:1082-1626710400-1626717600@www.moritzeggert.de
SUMMARY:Gast im Studio
DESCRIPTION:Moritz Eggert: „amour“ aus „traité des passions“ \nEnsemble Volcania\, Daniel Sepec\, Elisabeth Champollion \n
URL:https://www.moritzeggert.de/termin/gast-im-studio/
LOCATION:RBB Kultur\, Germany
END:VEVENT
END:VCALENDAR