BEGIN:VCALENDAR
VERSION:2.0
PRODID:-//Moritz Eggert - ECPv4.9.11//NONSGML v1.0//EN
CALSCALE:GREGORIAN
METHOD:PUBLISH
X-WR-CALNAME:Moritz Eggert
X-ORIGINAL-URL:https://www.moritzeggert.de
X-WR-CALDESC:Veranstaltungen für Moritz Eggert
BEGIN:VTIMEZONE
TZID:Europe/Helsinki
BEGIN:DAYLIGHT
TZOFFSETFROM:+0200
TZOFFSETTO:+0300
TZNAME:EEST
DTSTART:20230326T010000
END:DAYLIGHT
BEGIN:STANDARD
TZOFFSETFROM:+0300
TZOFFSETTO:+0200
TZNAME:EET
DTSTART:20231029T010000
END:STANDARD
END:VTIMEZONE
BEGIN:VEVENT
DTSTART;TZID=Europe/Helsinki:20230214T200000
DTEND;TZID=Europe/Helsinki:20230214T220000
DTSTAMP:20260423T161335
CREATED:20230130T093220Z
LAST-MODIFIED:20230130T093220Z
UID:2133-1676404800-1676412000@www.moritzeggert.de
SUMMARY:Fragments
DESCRIPTION:«Fragments» – Akkordeon im Dialog\nDer Freiburger Akkordeonist Nenad Ivanovic gibt am Dienstag\, 14. Februar 2023\, 20.00 Uhr\, ein Konzert im Schlossbergsaal des SWR Freiburg. Sein Programm «Fragments» zeigt das Akkordeon im Dialog mit verschiedenen Instrumenten in Werken international renommierter Komponisten unserer Zeit.\nIn den letzten Jahren sind zahlreiche Werke für Akkordeon in Kombination mit anderen Instrumenten entstanden und das Akkordeon hat sich in der klassischen Konzertszene fest etabliert. Das Konzert zeigt Reichtum und Klangmöglichkeiten des modernen Akkordeons und ist Beleg für seinen hohen Stellenwert in der zeitgenössischen Musik.\nBassquerflöte und Piccoloflöte sind virtuose Duo-Partnern des Akkordeons in «Birds Fragments III» (Toshio Hosokawa\, 1990). Die Klangkombination Akkordeon und Posaune lotet «Sanctus» (Moritz Eggert\, 1995) aus\, während «Sayaka» (Georg Friedrich Haas\, 2006) Akkordeon und Schlagzeug kombiniert. Mit Witz und Humor begegnen sich Violoncello und Akkordeon in «Danse polyptote» (Fabien Levy\, 2012). Akkorden und Klavier treffen im letzten Werk des Abends «F-fragments» (Keiko Harada\, 2012) aufeinander.\nNenad Ivanovics musikalische Partner*innen an diesem Abend sind Marusa Groselj (Baßflöte und Piccolo; Sinfonieorchester Basel)\, Frederic Belli (Posaune; SWR Symphonieorchester)\, Pascal Pons (Schlagzeug; Ensemble Surplus)\, Panu Sundqvist (Violoncello; SWR Symphonieorchester) und Rei Nakamura (Klavier; Ensemble Experimental des SWR-Experimentalstudios Freiburg).\nModeration: Christiane Peterlein (SWR2). \nDas Konzert wird gefördert von Neustart Kultur.\nDer Abend wird aufgezeichnet von SWR2.\nDer Eintritt ist frei. \n
URL:https://www.moritzeggert.de/termin/fragments/
LOCATION:SWR Studio\, Kartäuserstraße 45\, Freiburg\, 79102\, Germany
END:VEVENT
END:VCALENDAR