BEGIN:VCALENDAR
VERSION:2.0
PRODID:-//Moritz Eggert - ECPv4.9.11//NONSGML v1.0//EN
CALSCALE:GREGORIAN
METHOD:PUBLISH
X-WR-CALNAME:Moritz Eggert
X-ORIGINAL-URL:https://www.moritzeggert.de
X-WR-CALDESC:Veranstaltungen für Moritz Eggert
BEGIN:VTIMEZONE
TZID:Europe/Helsinki
BEGIN:DAYLIGHT
TZOFFSETFROM:+0200
TZOFFSETTO:+0300
TZNAME:EEST
DTSTART:20230326T010000
END:DAYLIGHT
BEGIN:STANDARD
TZOFFSETFROM:+0300
TZOFFSETTO:+0200
TZNAME:EET
DTSTART:20231029T010000
END:STANDARD
END:VTIMEZONE
BEGIN:VEVENT
DTSTART;TZID=Europe/Helsinki:20230312T190000
DTEND;TZID=Europe/Helsinki:20230312T210000
DTSTAMP:20260421T100033
CREATED:20220926T121114Z
LAST-MODIFIED:20220926T121114Z
UID:1921-1678647600-1678654800@www.moritzeggert.de
SUMMARY:Emerenz Meier - Dahoam in Chicago
DESCRIPTION:Moritz Eggert: Yodler \nMonika Drasch / Emerenz Meier Band Gast: J. Öllinger \n
URL:https://www.moritzeggert.de/termin/emerenz-meier-dahoam-in-chicago-2-2-2-3-2-2-2-2-3-2/
LOCATION:Langhaussaal\, Cham\, Germany
END:VEVENT
END:VCALENDAR