BEGIN:VCALENDAR
VERSION:2.0
PRODID:-//Moritz Eggert - ECPv4.9.11//NONSGML v1.0//EN
CALSCALE:GREGORIAN
METHOD:PUBLISH
X-WR-CALNAME:Moritz Eggert
X-ORIGINAL-URL:https://www.moritzeggert.de
X-WR-CALDESC:Veranstaltungen für Moritz Eggert
BEGIN:VTIMEZONE
TZID:Europe/Helsinki
BEGIN:DAYLIGHT
TZOFFSETFROM:+0200
TZOFFSETTO:+0300
TZNAME:EEST
DTSTART:20210328T010000
END:DAYLIGHT
BEGIN:STANDARD
TZOFFSETFROM:+0300
TZOFFSETTO:+0200
TZNAME:EET
DTSTART:20211031T010000
END:STANDARD
END:VTIMEZONE
BEGIN:VEVENT
DTSTART;TZID=Europe/Helsinki:20210926T170000
DTEND;TZID=Europe/Helsinki:20210926T190000
DTSTAMP:20260423T090215
CREATED:20210809T102647Z
LAST-MODIFIED:20210902T082008Z
UID:1104-1632675600-1632682800@www.moritzeggert.de
SUMMARY:UA "Counting Dances" für Cimbalom und Bläserquartett (Drehscheibe@MOD: #1_SO KLINGT EUROPA HEUTE)
DESCRIPTION:\n\n\n#1_SO KLINGT EUROPA HEUTE\nAuftakt des 2-jährigen internationalen Ensemble-Projekts mit zwei Uraufführungen von Moritz Eggert und KP Werani\, umrahmt von einem musikalischen Inklusions-Experiment („So klingt’s in MOD“) in Kooperation mit der OBA (Offene Behindertenarbeit). \nEnsembles aus drei Ländern planen dieses Gemeinschaftsprojekt. Jeder beauftragt im Wechsel Komponisten aus seinem eigenen Land\, ein Werk in klassischer Ensemble-Besetzung für zeitgenössische Musik plus traditionelles Instrument der Volksmusik zu komponieren. \n2021 treffen sich die drei Experten für Neue Musik aus München\, Zürich und Brest in der ersten Runder der „Drehscheibe“ in Bayern. Sie treten bei Uraufführungskonzerten mit den Code Modern-Auftragswerken von Moritz Eggert (für Cimbalom) und KP Werani (für Bandoneon) sowie Werken von Minas Borboudakis\, Rebecca Saunders und Péter Eötvös gemeinsam auf. 2022 ziehen die drei Ensembles zu Konzerten in der Schweiz und der Bretagne weiter\, wo sie die neuen Werke Schweizer und französischer Komponist*innen uraufführen. \nProgramm:\nMoritz Eggert: „Counting Dances“ (UA) für Cimbalom und Blechbläserquartett (Collegium Novum Zürich)\nKP Werani: Neues Werk (UA) für Bandoneon und Streichquintett (Ensemble Sillages)\nMinas Borboudakis: Synaptic Arpeggiator (2011) für 5 Holzbläser (der/gelbe/klang)\nRebecca Saunders: Dust (2017-2018) für Percussion Solo (der/gelbe/klang)\nPéter Eötvös: Da Capo (2012) für Cimbalom Solo und Ensemble (tutti)\nMitwirkende:\nCollegium Novum Zürich | der/gelbe/klang (München) | Ensemble Sillages (Brest)\nLouise Jallu (Bandoneon) | Luigi Gaggero (Cimbalom)\nArmando Merino (Musikalische Leitung)\nHans Rotman (künstl. Kurator des Projekts) \n\nweniger \nQuelle: Veranstalter – Irrtümer und Änderungen vorbehalten \n\n\n\n\n\n\n\n\n\n\nLandkarte anzeigen\n\n\nAnfahrtsplan\n \n\n
URL:https://www.moritzeggert.de/termin/drehscheibemod-1_so-klingt-europa-heute/
LOCATION:Bayerische Musikakademie Marktoberdorf\, Kurfürstenstraße 19\, Marktoberdorf\, Bayern\, 87616\, Germany
END:VEVENT
END:VCALENDAR