BEGIN:VCALENDAR
VERSION:2.0
PRODID:-//Moritz Eggert - ECPv4.9.11//NONSGML v1.0//EN
CALSCALE:GREGORIAN
METHOD:PUBLISH
X-WR-CALNAME:Moritz Eggert
X-ORIGINAL-URL:https://www.moritzeggert.de
X-WR-CALDESC:Veranstaltungen für Moritz Eggert
BEGIN:VTIMEZONE
TZID:Europe/Helsinki
BEGIN:DAYLIGHT
TZOFFSETFROM:+0200
TZOFFSETTO:+0300
TZNAME:EEST
DTSTART:20220327T010000
END:DAYLIGHT
BEGIN:STANDARD
TZOFFSETFROM:+0300
TZOFFSETTO:+0200
TZNAME:EET
DTSTART:20221030T010000
END:STANDARD
END:VTIMEZONE
BEGIN:VEVENT
DTSTART;TZID=Europe/Helsinki:20220625T193000
DTEND;TZID=Europe/Helsinki:20220625T210000
DTSTAMP:20260423T090210
CREATED:20220502T172022Z
LAST-MODIFIED:20220502T172022Z
UID:1607-1656185400-1656190800@www.moritzeggert.de
SUMMARY:Wie klingt Europa heute?
DESCRIPTION:\n\n\n\n\n\n\n\nJustina Repečkaitė  Atropine  für Blechbläsertrio und Elektronik\n\n\nEzko Kikoutchi  Necessité  für Bandoneon und Streichtrio\n\nUraufführung\n\n\n\nAlvarado Bonilla  Neues Werk  für Flöte\, Klarinette\, Schlagzeug und Elektronik\n\n\nMoritz Eggert  Counting Dances  für Blechbläserquartett und Cymbalom\n\nSchweizer Erstaufführung\, Werkauftrag des Festivals Code Modern für Collegium Novum Zürich\n\n\n\nPatrick Frank  Neues Werk  für Jodelgesang und Streichtrio\n\nUraufführung\n\n\n\nKP Werani  ouvrir\, fermer – die feinen Unterschiede  für Bandoneon und Streichquintett\n\n\n\n\nCatriona Bühler  Jodelgesang/Sopran\n\n\nAleksandra Dzenisenia  Cymbalom\n\n\nLouise Jallu  Bandoneon\n\n\nArmando Merino  Dirigent\n\n\nMusiker·innen des Collegium Novum Zürich\n\n\nder/gelbe/klang   (München)\n\n\nEnsemble Sillages  (Brest)\n\n\n  \n\n
URL:https://www.moritzeggert.de/termin/drehscheibemod-1_so-klingt-europa-heute-3/
LOCATION:Museum für Gestaltung\, Ausstellungsstraße 60\, Zürich\, Bayern\, 8005\, Schweiz
END:VEVENT
END:VCALENDAR