BEGIN:VCALENDAR
VERSION:2.0
PRODID:-//Moritz Eggert - ECPv4.9.11//NONSGML v1.0//EN
CALSCALE:GREGORIAN
METHOD:PUBLISH
X-WR-CALNAME:Moritz Eggert
X-ORIGINAL-URL:https://www.moritzeggert.de
X-WR-CALDESC:Veranstaltungen für Moritz Eggert
BEGIN:VTIMEZONE
TZID:Europe/Helsinki
BEGIN:DAYLIGHT
TZOFFSETFROM:+0200
TZOFFSETTO:+0300
TZNAME:EEST
DTSTART:20210328T010000
END:DAYLIGHT
BEGIN:STANDARD
TZOFFSETFROM:+0300
TZOFFSETTO:+0200
TZNAME:EET
DTSTART:20211031T010000
END:STANDARD
END:VTIMEZONE
BEGIN:VEVENT
DTSTART;TZID=Europe/Helsinki:20210917T200000
DTEND;TZID=Europe/Helsinki:20210917T213000
DTSTAMP:20260423T105410
CREATED:20210831T143013Z
LAST-MODIFIED:20210831T143013Z
UID:1141-1631908800-1631914200@www.moritzeggert.de
SUMMARY:Die Zimmer der Villa Vivaldi\, ENSEMBLE VOLCania & Elisabeth Champollion\, Blockflöte
DESCRIPTION:PROGRAMM\nMark Scheibe\n„Villa Vivaldi“\nAntonio Vivaldi\nConcerto RV 104 g-Moll  „La Notte“\nConcerto RV 98 „La Tempesta di Mare“\nMoritz Eggert\n„Traité des Passions“\nAntonio Vivaldi\nConcerto RV 443 C-Dur \nINTERPRETEN\nEnsemble VOLCANIA\nElisabeth Champollion\nBlockflöten\nFranciska Anna Hajdu\nSolovioline\nHenriette Otto\nCsenge Orgóvan\nVioline\nAlice Vaz\nViola\nJule Hinrichsen\nVioloncello\nRüdiger Kurz\nKontrabass\nPedro Alcàcer Doria\nGitarre\nLuise Enzian\nHarfe \nMaestro Vivaldi öffnet seine Zimmertüren für neue Musik. In seinem Haus treffen Dramatik und Sinnlichkeit aufeinander\, die seine eigene Musik prägen\, aber auch Thema der Werke u.a. von Mark Scheibe und Moritz Eggert sind. Die belebten Räume sind erfüllt von Lebensfreude\, Verzweiflung\, Liebe\, Hass und Übermut. Im Entree der italienischen Villa geht es um Begegnung: zwischen den Affekten\, zwischen Musikern und der Musik\, mit dem Publikum. Jeder Abend kann anders verlaufen\, wenn die geladenen Gäste aufeinander treffen. Die Begegnung der barocken Concerti mit frischen Werken für historische Instrumente\, die extra für Vivaldis Haus komponiert wurden\, eröffnen in der gastfreundlichen Villa faszinierende Klangräume\, die aufhorchen lassen und neugierig machen. Prego\, treten Sie ein! \n
URL:https://www.moritzeggert.de/termin/die-zimmer-der-villa-vivaldi-ensemble-volcania-elisabeth-champollion-blockfloete/
LOCATION:Stadthalle Kleve\, Lohstätte 7\, Kleve\, 47533\, Germany
END:VEVENT
END:VCALENDAR