BEGIN:VCALENDAR
VERSION:2.0
PRODID:-//Moritz Eggert - ECPv4.9.11//NONSGML v1.0//EN
CALSCALE:GREGORIAN
METHOD:PUBLISH
X-WR-CALNAME:Moritz Eggert
X-ORIGINAL-URL:https://www.moritzeggert.de
X-WR-CALDESC:Veranstaltungen für Moritz Eggert
BEGIN:VTIMEZONE
TZID:Europe/Helsinki
BEGIN:DAYLIGHT
TZOFFSETFROM:+0200
TZOFFSETTO:+0300
TZNAME:EEST
DTSTART:20240331T010000
END:DAYLIGHT
BEGIN:STANDARD
TZOFFSETFROM:+0300
TZOFFSETTO:+0200
TZNAME:EET
DTSTART:20241027T010000
END:STANDARD
END:VTIMEZONE
BEGIN:VEVENT
DTSTART;TZID=Europe/Helsinki:20241006T110000
DTEND;TZID=Europe/Helsinki:20241006T123000
DTSTAMP:20260419T193623
CREATED:20240730T144323Z
LAST-MODIFIED:20240730T144323Z
UID:3705-1728212400-1728217800@www.moritzeggert.de
SUMMARY:Die letzte Verschwörung
DESCRIPTION:\nOper in zwei Akten von Moritz Eggert\n\n\nMatinee zu: »Die letzte Verschwörung«\nSo 6.10.2024 11:00\nTreppenfoyer martini-Park\n\nab 19.10.2024 martini-Park\n\n\n\n\nLibretto von Moritz Eggert\nIn deutscher Sprache mit deutschen Übertiteln \nFriedrich Quant\, erfolgreicher Fernsehmoderator\, wird von den Verschwörungstheoretikern Dieter Urban und Lara Lechner dazu verleitet\, ihrer Ideologie zu folgen. \n\n\nPlötzlich steckt er mitten in einer aberwitzigen Geschichte\, umgeben von Flat-Earthern\, Reptiloiden und Aliens. Moritz Eggert schafft mit seinem unterhaltsamen Stilmix ein soghaftes Werk über die Verbreitung von alternativen Realitäten. Bestes politisches Gegenwartstheater mit viel Tempo und Witz. \n\n\n\n\n
URL:https://www.moritzeggert.de/termin/die-letzte-verschwoerung-3-2-2/
LOCATION:Martini Park\, Staatstheater Augsburg\, Augsburg\, Germany
END:VEVENT
END:VCALENDAR