BEGIN:VCALENDAR
VERSION:2.0
PRODID:-//Moritz Eggert - ECPv4.9.11//NONSGML v1.0//EN
CALSCALE:GREGORIAN
METHOD:PUBLISH
X-WR-CALNAME:Moritz Eggert
X-ORIGINAL-URL:https://www.moritzeggert.de
X-WR-CALDESC:Veranstaltungen für Moritz Eggert
BEGIN:VTIMEZONE
TZID:Europe/Helsinki
BEGIN:DAYLIGHT
TZOFFSETFROM:+0200
TZOFFSETTO:+0300
TZNAME:EEST
DTSTART:20250330T010000
END:DAYLIGHT
BEGIN:STANDARD
TZOFFSETFROM:+0300
TZOFFSETTO:+0200
TZNAME:EET
DTSTART:20251026T010000
END:STANDARD
END:VTIMEZONE
BEGIN:VEVENT
DTSTART;TZID=Europe/Helsinki:20250411T170000
DTEND;TZID=Europe/Helsinki:20250411T190000
DTSTAMP:20260424T104738
CREATED:20250325T150323Z
LAST-MODIFIED:20250325T150323Z
UID:4111-1744390800-1744398000@www.moritzeggert.de
SUMMARY:Deutsches Komponistenarchiv: 20 Jahre Erschließung des musikalischen Erbes
DESCRIPTION:\n\n\nIm Jahr 2005 wurde das Deutsche Komponistenarchiv (DKA) in Dresden gegründet. Die Aufgabe: Das musikalische Erbe zeitgenössischer Komponisten bewahren und erschließen. 20 Jahre später umfasst das DKA einen fundierten Bestand von Werken und Materialien von 36 Komponisten. Das muss gefeiert werden. Am Freitag\, 11. April 2025\, 17 Uhr findet im Rahmen der „Dresdner Tage der zeitgenössischen Musik“ im Chorsaal der Hochschule für Kirchenmusik Dresden\, Käthe-Kollwitz-Ufer 97\, eine Jubiläumsveranstaltung mit einem Podiumsgespräch und einem Konzert statt.\n\n\n\n\n\n\n„Das Deutsche Komponistenarchiv ist ein einzigartiger Ort der Bewahrung und Förderung der Musikgeschichte des 20. und 21. Jahrhunderts. Hier werden Werke von Komponisten für zukünftige Generationen zugänglich gemacht und die vielfältige kulturelle Landschaft\, die Dresden auszeichnet\, bereichert.“\n Annekatrin Klepsch\, Kulturbürgermeisterin  \n\n\n\n\n\n\nBei der Veranstaltung sprechen bei einer Podiumsdiskussion zunächst Prof. Moritz Eggert (Präsident des Deutschen Komponist:innenverbands\, München)\, Prof. Dr. Michael Karbaum (Mitbegründer des DKA)\, Prof. Matthias Drude (Hochschule für Kirchenmusik Dresden und 1. Vorsitzender des Vereins der Freunde und Förderer des Deutschen Komponistenarchivs e.V.)\, Dr. Barbara Wiermann (Leiterin der Abteilung Musik und AV-Medien der Sächsisches Landes- und Universitätsbibliothek) über das Thema „Wohin mit dem Nachlass?“.\nIm zweiten Teil der Veranstaltung wird das Ensemble für aktuelle Musik „El Perro Andaluz“ in einem 50-minütigen Konzert Werke von Komponisten aufführen\, die ihren Vor- und Nachlass dem DKA zur Verfügung gestellt haben.\nAlle Interessierten sind zur Veranstaltung eingeladen. Der Verein der Freunde und Förderer des Deutschen Komponistenarchivs e. V. bittet bis Montag\, 31. März 2025\, um Rückmeldung an komponistenarchiv@t-online.de. \n\n\n\n\n
URL:https://www.moritzeggert.de/termin/deutsches-komponistenarchiv-20-jahre-erschliessung-des-musikalischen-erbes/
LOCATION:Hochschule für Kirchenmusik Dresden\, Käthe-Kollwitz-Ufer 97\, Dresden\, Germany
END:VEVENT
END:VCALENDAR